BEGIN:VCALENDAR
VERSION:2.0
PRODID:-//Adams Memorial Library - ECPv6.15.20//NONSGML v1.0//EN
CALSCALE:GREGORIAN
METHOD:PUBLISH
X-WR-CALNAME:Adams Memorial Library
X-ORIGINAL-URL:https://www.adamslib.org
X-WR-CALDESC:Events for Adams Memorial Library
REFRESH-INTERVAL;VALUE=DURATION:PT1H
X-Robots-Tag:noindex
X-PUBLISHED-TTL:PT1H
BEGIN:VTIMEZONE
TZID:America/New_York
BEGIN:DAYLIGHT
TZOFFSETFROM:-0500
TZOFFSETTO:-0400
TZNAME:EDT
DTSTART:20250309T070000
END:DAYLIGHT
BEGIN:STANDARD
TZOFFSETFROM:-0400
TZOFFSETTO:-0500
TZNAME:EST
DTSTART:20251102T060000
END:STANDARD
BEGIN:DAYLIGHT
TZOFFSETFROM:-0500
TZOFFSETTO:-0400
TZNAME:EDT
DTSTART:20260308T070000
END:DAYLIGHT
BEGIN:STANDARD
TZOFFSETFROM:-0400
TZOFFSETTO:-0500
TZNAME:EST
DTSTART:20261101T060000
END:STANDARD
BEGIN:DAYLIGHT
TZOFFSETFROM:-0500
TZOFFSETTO:-0400
TZNAME:EDT
DTSTART:20270314T070000
END:DAYLIGHT
BEGIN:STANDARD
TZOFFSETFROM:-0400
TZOFFSETTO:-0500
TZNAME:EST
DTSTART:20271107T060000
END:STANDARD
END:VTIMEZONE
BEGIN:VEVENT
DTSTART;TZID=America/New_York:20260420T103000
DTEND;TZID=America/New_York:20260420T110000
DTSTAMP:20260420T111249
CREATED:20260324T015820Z
LAST-MODIFIED:20260324T015939Z
UID:16260-1776681000-1776682800@www.adamslib.org
SUMMARY:Song & Rhyme Time
DESCRIPTION:Join Miss Karen for an at-home song and rhyme session to enjoy any time or anywhere! You can follow along on our website or social media! \nWatch for new videos to sing along! \nTo follow along\, please click HERE!
URL:https://www.adamslib.org/event/song-rhyme-time-43/
CATEGORIES:Babies & Toddlers
END:VEVENT
BEGIN:VEVENT
DTSTART;TZID=America/New_York:20260420T180000
DTEND;TZID=America/New_York:20260420T183000
DTSTAMP:20260420T111249
CREATED:20260323T144101Z
LAST-MODIFIED:20260323T144101Z
UID:16241-1776708000-1776709800@www.adamslib.org
SUMMARY:Inquire Within PBS Kids: Moon Take Home Kit
DESCRIPTION:She waxes\, she wanes\, she’s Earth’s constant companion—learn about the moon and other stellar objects this month!\n\nThanks to our friends at WQED Education and Clearview Federal Credit Union\, take home kits will be available in the Children’s Room starting Monday\, April 20\, so you can follow along on our website or social media!\n\nWhile supplies last!\n\nClick HERE to follow along!
URL:https://www.adamslib.org/event/inquire-within-pbs-kids-moon-take-home-kit/
CATEGORIES:Children
END:VEVENT
BEGIN:VEVENT
DTSTART;TZID=America/New_York:20260420T180000
DTEND;TZID=America/New_York:20260420T193000
DTSTAMP:20260420T111249
CREATED:20260323T144305Z
LAST-MODIFIED:20260323T144305Z
UID:16244-1776708000-1776713400@www.adamslib.org
SUMMARY:A Night with Abigail Adams
DESCRIPTION:A witness to and active participant in our nation’s birth\, Abigail Adams is well known for her advocacy of women’s rights\, especially in education\, and her opposition to slavery.\n\nSpend an evening with us as she tells us of how she helped shape the nation as confidant and advisor to her husband\, John Adams\, the nation’s second president.\n\nTo register\, stop by the Upstairs Circulation Desk\, call 724-539-1972\, or click HERE
URL:https://www.adamslib.org/event/a-night-with-abigail-adams/
LOCATION:Adams Memorial Library\, 1112 Ligonier Street\, Latrobe\, PA\, 15650\, United States
CATEGORIES:Teens & Adults
END:VEVENT
END:VCALENDAR