BEGIN:VCALENDAR
VERSION:2.0
PRODID:-//Adams Memorial Library - ECPv6.15.20//NONSGML v1.0//EN
CALSCALE:GREGORIAN
METHOD:PUBLISH
X-WR-CALNAME:Adams Memorial Library
X-ORIGINAL-URL:https://www.adamslib.org
X-WR-CALDESC:Events for Adams Memorial Library
REFRESH-INTERVAL;VALUE=DURATION:PT1H
X-Robots-Tag:noindex
X-PUBLISHED-TTL:PT1H
BEGIN:VTIMEZONE
TZID:America/New_York
BEGIN:DAYLIGHT
TZOFFSETFROM:-0500
TZOFFSETTO:-0400
TZNAME:EDT
DTSTART:20230312T070000
END:DAYLIGHT
BEGIN:STANDARD
TZOFFSETFROM:-0400
TZOFFSETTO:-0500
TZNAME:EST
DTSTART:20231105T060000
END:STANDARD
BEGIN:DAYLIGHT
TZOFFSETFROM:-0500
TZOFFSETTO:-0400
TZNAME:EDT
DTSTART:20240310T070000
END:DAYLIGHT
BEGIN:STANDARD
TZOFFSETFROM:-0400
TZOFFSETTO:-0500
TZNAME:EST
DTSTART:20241103T060000
END:STANDARD
BEGIN:DAYLIGHT
TZOFFSETFROM:-0500
TZOFFSETTO:-0400
TZNAME:EDT
DTSTART:20250309T070000
END:DAYLIGHT
BEGIN:STANDARD
TZOFFSETFROM:-0400
TZOFFSETTO:-0500
TZNAME:EST
DTSTART:20251102T060000
END:STANDARD
END:VTIMEZONE
BEGIN:VEVENT
DTSTART;TZID=America/New_York:20240116T103000
DTEND;TZID=America/New_York:20240116T120000
DTSTAMP:20260419T233937
CREATED:20240106T083745Z
LAST-MODIFIED:20240220T002942Z
UID:10818-1705401000-1705406400@www.adamslib.org
SUMMARY:Knifty Knitters
DESCRIPTION:Knifty Knitters meets at the library every first and third Tuesday of every month!  This group\, made up completely of volunteers\, knits and crochets for various charities.  New knitters are always welcome\, regardless of experience–members will teach! \nFor more information\, stop by the circulation desk or call 724-527-1972! \nWe can’t wait to see you!
URL:https://www.adamslib.org/event/knifty-knitters/
LOCATION:Adams Memorial Library\, 1112 Ligonier Street\, Latrobe\, PA\, 15650\, United States
CATEGORIES:Adults
END:VEVENT
BEGIN:VEVENT
DTSTART;TZID=America/New_York:20240118T133000
DTEND;TZID=America/New_York:20240118T143000
DTSTAMP:20260419T233937
CREATED:20240115T091939Z
LAST-MODIFIED:20240115T091939Z
UID:10843-1705584600-1705588200@www.adamslib.org
SUMMARY:Tales From Across the Pond: A Very Derry Connection
DESCRIPTION:The Derry Public Library of New Hampshire and the Derry Central Library of Derry\, Northern Ireland present Tales from Across the Pond! \nJoin us around the virtual fire for an afternoon/evening of cultural heritage tales about Derry/Londonderry/Nutfield and more. Storytellers will share a taste of history\, mystery\, legend and lore for this special afternoon/evening of entertainment. \nThis program is made possible by the Friends of the Derry Libraries. \nTo find out more about our storytellers and to register\, please click HERE!
URL:https://www.adamslib.org/event/tales-from-across-the-pond-a-very-derry-connection/
CATEGORIES:Adults
END:VEVENT
BEGIN:VEVENT
DTSTART;TZID=America/New_York:20240125T180000
DTEND;TZID=America/New_York:20240125T193000
DTSTAMP:20260419T233937
CREATED:20240108T234751Z
LAST-MODIFIED:20240128T035855Z
UID:10841-1706205600-1706211000@www.adamslib.org
SUMMARY:Mystery Book Club
DESCRIPTION:Join this outside group every fourth Thursday of each month from 6:00PM to 7:30PM for discussion on thrillers\, mysteries\, whodunits\, and more! \nStop by the circulation desk or call 724-539-1972 for more information!
URL:https://www.adamslib.org/event/mystery-book-club-23/
LOCATION:Adams Memorial Library\, 1112 Ligonier Street\, Latrobe\, PA\, 15650\, United States
CATEGORIES:Adults
END:VEVENT
END:VCALENDAR