BEGIN:VCALENDAR
VERSION:2.0
PRODID:-//Adams Memorial Library - ECPv6.15.20//NONSGML v1.0//EN
CALSCALE:GREGORIAN
METHOD:PUBLISH
X-ORIGINAL-URL:https://www.adamslib.org
X-WR-CALDESC:Events for Adams Memorial Library
REFRESH-INTERVAL;VALUE=DURATION:PT1H
X-Robots-Tag:noindex
X-PUBLISHED-TTL:PT1H
BEGIN:VTIMEZONE
TZID:America/New_York
BEGIN:DAYLIGHT
TZOFFSETFROM:-0500
TZOFFSETTO:-0400
TZNAME:EDT
DTSTART:20230312T070000
END:DAYLIGHT
BEGIN:STANDARD
TZOFFSETFROM:-0400
TZOFFSETTO:-0500
TZNAME:EST
DTSTART:20231105T060000
END:STANDARD
BEGIN:DAYLIGHT
TZOFFSETFROM:-0500
TZOFFSETTO:-0400
TZNAME:EDT
DTSTART:20240310T070000
END:DAYLIGHT
BEGIN:STANDARD
TZOFFSETFROM:-0400
TZOFFSETTO:-0500
TZNAME:EST
DTSTART:20241103T060000
END:STANDARD
BEGIN:DAYLIGHT
TZOFFSETFROM:-0500
TZOFFSETTO:-0400
TZNAME:EDT
DTSTART:20250309T070000
END:DAYLIGHT
BEGIN:STANDARD
TZOFFSETFROM:-0400
TZOFFSETTO:-0500
TZNAME:EST
DTSTART:20251102T060000
END:STANDARD
END:VTIMEZONE
BEGIN:VEVENT
DTSTART;TZID=America/New_York:20240314T160000
DTEND;TZID=America/New_York:20240314T170000
DTSTAMP:20260419T190058
CREATED:20240219T184539Z
LAST-MODIFIED:20240219T184539Z
UID:11168-1710432000-1710435600@www.adamslib.org
SUMMARY:Virtual Author Talk: Christoper Paolini
DESCRIPTION:20 Years of Dragon-Riding in YA Fantasy with International Bestselling Author Christopher Paolini! \nJoin us as we chat with master storyteller and internationally bestselling author Christopher Paolini about his return to the World of Eragon with Murtagh\, a stunning continuation of the epic fantasy. \nMurtagh is the perfect book to enter the World of Eragon for the first time . . . or to joyfully return. Register now to join the fun! \nTo sign up for this FREE virtual event\, please click HERE! \nFor other upcoming virtual talks\, please click HERE!
URL:https://www.adamslib.org/event/virtual-author-talk-christoper-paolini/
CATEGORIES:Adults
END:VEVENT
END:VCALENDAR