BEGIN:VCALENDAR
VERSION:2.0
PRODID:-//Adams Memorial Library - ECPv6.15.20//NONSGML v1.0//EN
CALSCALE:GREGORIAN
METHOD:PUBLISH
X-WR-CALNAME:Adams Memorial Library
X-ORIGINAL-URL:https://www.adamslib.org
X-WR-CALDESC:Events for Adams Memorial Library
REFRESH-INTERVAL;VALUE=DURATION:PT1H
X-Robots-Tag:noindex
X-PUBLISHED-TTL:PT1H
BEGIN:VTIMEZONE
TZID:America/New_York
BEGIN:DAYLIGHT
TZOFFSETFROM:-0500
TZOFFSETTO:-0400
TZNAME:EDT
DTSTART:20250309T070000
END:DAYLIGHT
BEGIN:STANDARD
TZOFFSETFROM:-0400
TZOFFSETTO:-0500
TZNAME:EST
DTSTART:20251102T060000
END:STANDARD
BEGIN:DAYLIGHT
TZOFFSETFROM:-0500
TZOFFSETTO:-0400
TZNAME:EDT
DTSTART:20260308T070000
END:DAYLIGHT
BEGIN:STANDARD
TZOFFSETFROM:-0400
TZOFFSETTO:-0500
TZNAME:EST
DTSTART:20261101T060000
END:STANDARD
BEGIN:DAYLIGHT
TZOFFSETFROM:-0500
TZOFFSETTO:-0400
TZNAME:EDT
DTSTART:20270314T070000
END:DAYLIGHT
BEGIN:STANDARD
TZOFFSETFROM:-0400
TZOFFSETTO:-0500
TZNAME:EST
DTSTART:20271107T060000
END:STANDARD
END:VTIMEZONE
BEGIN:VEVENT
DTSTART;TZID=America/New_York:20260305T180000
DTEND;TZID=America/New_York:20260305T203000
DTSTAMP:20260424T194209
CREATED:20260225T063949Z
LAST-MODIFIED:20260225T063949Z
UID:16119-1772733600-1772742600@www.adamslib.org
SUMMARY:Movie Screening: 1776
DESCRIPTION:Enjoy some popcorn as we watch Peter Hunt’s musical retelling of the Founding Fathers’ struggle to declare independence.\n\n\nThis program is FREE but registration is required.\n\nTo register\, stop by the Upstairs Circulation Desk\, call 724-539-1972\, or click HERE
URL:https://www.adamslib.org/event/movie-screening-1776/
LOCATION:Adams Memorial Library\, 1112 Ligonier Street\, Latrobe\, PA\, 15650\, United States
CATEGORIES:Adults
END:VEVENT
END:VCALENDAR