BEGIN:VCALENDAR
VERSION:2.0
PRODID:-//Adams Memorial Library - ECPv6.15.20//NONSGML v1.0//EN
CALSCALE:GREGORIAN
METHOD:PUBLISH
X-WR-CALNAME:Adams Memorial Library
X-ORIGINAL-URL:https://www.adamslib.org
X-WR-CALDESC:Events for Adams Memorial Library
REFRESH-INTERVAL;VALUE=DURATION:PT1H
X-Robots-Tag:noindex
X-PUBLISHED-TTL:PT1H
BEGIN:VTIMEZONE
TZID:America/New_York
BEGIN:DAYLIGHT
TZOFFSETFROM:-0500
TZOFFSETTO:-0400
TZNAME:EDT
DTSTART:20250309T070000
END:DAYLIGHT
BEGIN:STANDARD
TZOFFSETFROM:-0400
TZOFFSETTO:-0500
TZNAME:EST
DTSTART:20251102T060000
END:STANDARD
BEGIN:DAYLIGHT
TZOFFSETFROM:-0500
TZOFFSETTO:-0400
TZNAME:EDT
DTSTART:20260308T070000
END:DAYLIGHT
BEGIN:STANDARD
TZOFFSETFROM:-0400
TZOFFSETTO:-0500
TZNAME:EST
DTSTART:20261101T060000
END:STANDARD
BEGIN:DAYLIGHT
TZOFFSETFROM:-0500
TZOFFSETTO:-0400
TZNAME:EDT
DTSTART:20270314T070000
END:DAYLIGHT
BEGIN:STANDARD
TZOFFSETFROM:-0400
TZOFFSETTO:-0500
TZNAME:EST
DTSTART:20271107T060000
END:STANDARD
END:VTIMEZONE
BEGIN:VEVENT
DTSTART;TZID=America/New_York:20260402T140000
DTEND;TZID=America/New_York:20260402T150000
DTSTAMP:20260424T180508
CREATED:20260323T140929Z
LAST-MODIFIED:20260323T140929Z
UID:16194-1775138400-1775142000@www.adamslib.org
SUMMARY:On a Mission: A Virtual Talk About The History of US Women Astronauts with Smithsonian Curator Emerita Valerie Neal
DESCRIPTION:Join us for an exhilarating journey through the history of US women astronauts with Valerie Neal\, emerita curator from the Smithsonian’s National Air and Space Museum and expert on human spaceflight.\n\nValerie offers a culturally insightful history of the achievements of US women astronauts\, the challenges they’ve faced\, and their distinctive stories as they carve out space in a male-dominated field.\n\n\nTo sign up for this FREE virtual event\, please click HERE! \nFor other upcoming (and previous) virtual talks\, please click HERE!
URL:https://www.adamslib.org/event/author-talk-valerie-neal/
LOCATION:Virtual Author Talks
CATEGORIES:Adults
END:VEVENT
END:VCALENDAR