BEGIN:VCALENDAR
VERSION:2.0
PRODID:-//Adams Memorial Library - ECPv6.15.20//NONSGML v1.0//EN
CALSCALE:GREGORIAN
METHOD:PUBLISH
X-ORIGINAL-URL:https://www.adamslib.org
X-WR-CALDESC:Events for Adams Memorial Library
REFRESH-INTERVAL;VALUE=DURATION:PT1H
X-Robots-Tag:noindex
X-PUBLISHED-TTL:PT1H
BEGIN:VTIMEZONE
TZID:America/New_York
BEGIN:DAYLIGHT
TZOFFSETFROM:-0500
TZOFFSETTO:-0400
TZNAME:EDT
DTSTART:20230312T070000
END:DAYLIGHT
BEGIN:STANDARD
TZOFFSETFROM:-0400
TZOFFSETTO:-0500
TZNAME:EST
DTSTART:20231105T060000
END:STANDARD
BEGIN:DAYLIGHT
TZOFFSETFROM:-0500
TZOFFSETTO:-0400
TZNAME:EDT
DTSTART:20240310T070000
END:DAYLIGHT
BEGIN:STANDARD
TZOFFSETFROM:-0400
TZOFFSETTO:-0500
TZNAME:EST
DTSTART:20241103T060000
END:STANDARD
BEGIN:DAYLIGHT
TZOFFSETFROM:-0500
TZOFFSETTO:-0400
TZNAME:EDT
DTSTART:20250309T070000
END:DAYLIGHT
BEGIN:STANDARD
TZOFFSETFROM:-0400
TZOFFSETTO:-0500
TZNAME:EST
DTSTART:20251102T060000
END:STANDARD
END:VTIMEZONE
BEGIN:VEVENT
DTSTART;TZID=America/New_York:20240604T100000
DTEND;TZID=America/New_York:20240604T120000
DTSTAMP:20260420T021550
CREATED:20240520T081656Z
LAST-MODIFIED:20240520T081656Z
UID:11732-1717495200-1717502400@www.adamslib.org
SUMMARY:Knifty Knitters
DESCRIPTION:Knifty Knitters meets at the library every first and third Tuesday of every month!  This group\, made up completely of volunteers\, knits and crochets for various charities.  New knitters are always welcome\, regardless of experience–members will teach! \nFor more information\, stop by the circulation desk or call 724-527-1972! \nWe can’t wait to see you!
URL:https://www.adamslib.org/event/knifty-knitters-10/
LOCATION:Adams Memorial Library\, 1112 Ligonier Street\, Latrobe\, PA\, 15650\, United States
CATEGORIES:Adults
END:VEVENT
BEGIN:VEVENT
DTSTART;TZID=America/New_York:20240611T180000
DTEND;TZID=America/New_York:20240611T193000
DTSTAMP:20260420T021550
CREATED:20240520T062824Z
LAST-MODIFIED:20240520T062824Z
UID:11601-1718128800-1718134200@www.adamslib.org
SUMMARY:Composting With Penn State Master Gardeners
DESCRIPTION:Would you like to have free\, rich organic soil full of nutrients and beneficial microorganisms to add to your gardens? \nPenn State Master Gardeners will be teaching us about the composting process\, how it can cut down your waste\, and give your soil the nutrients and microorganisms it needs to thrive. \nThey will also have other useful information on spotted lanternflies\, ticks\, veggie growing\, to help with your gardening this summer. \nTo register\, please stop in at the library\, call 724-539-1972\, or click HERE.
URL:https://www.adamslib.org/event/composting-with-penn-state-master-gardeners/
LOCATION:Adams Memorial Library\, 1112 Ligonier Street\, Latrobe\, PA\, 15650\, United States
CATEGORIES:Adults
END:VEVENT
BEGIN:VEVENT
DTSTART;TZID=America/New_York:20240613T200000
DTEND;TZID=America/New_York:20240613T210000
DTSTAMP:20260420T021550
CREATED:20240520T083537Z
LAST-MODIFIED:20240520T083537Z
UID:11752-1718308800-1718312400@www.adamslib.org
SUMMARY:Virtual Author Talk: Freida McFadden
DESCRIPTION:Psychological Thrillers and the Queen of Twists– An Author Talk with Freida McFadden\nThe queen of twists herself\, Freida McFadden will join us online to chat about writing psychological thrillers. She will also talk to us about her upcoming third installment in the Housemaid series\, The Housemaid Is Watching. \nTo sign up for this FREE virtual event\, please click HERE! \nFor other upcoming virtual talks\, please click HERE! \n 
URL:https://www.adamslib.org/event/virtual-author-talk-freida-mcfadden/
CATEGORIES:Adults
END:VEVENT
BEGIN:VEVENT
DTSTART;TZID=America/New_York:20240618T100000
DTEND;TZID=America/New_York:20240618T120000
DTSTAMP:20260420T021550
CREATED:20240520T081726Z
LAST-MODIFIED:20240520T081726Z
UID:11734-1718704800-1718712000@www.adamslib.org
SUMMARY:Knifty Knitters
DESCRIPTION:Knifty Knitters meets at the library every first and third Tuesday of every month!  This group\, made up completely of volunteers\, knits and crochets for various charities.  New knitters are always welcome\, regardless of experience–members will teach! \nFor more information\, stop by the circulation desk or call 724-527-1972! \nWe can’t wait to see you!
URL:https://www.adamslib.org/event/knifty-knitters-11/
LOCATION:Adams Memorial Library\, 1112 Ligonier Street\, Latrobe\, PA\, 15650\, United States
CATEGORIES:Adults
END:VEVENT
BEGIN:VEVENT
DTSTART;TZID=America/New_York:20240620T140000
DTEND;TZID=America/New_York:20240620T150000
DTSTAMP:20260420T021550
CREATED:20240528T071320Z
LAST-MODIFIED:20240528T071320Z
UID:11969-1718892000-1718895600@www.adamslib.org
SUMMARY:Virtual Author Talk: Tiffany Jewell
DESCRIPTION:Unpacking a History of Systemic Racism in the American Education System with Tiffany Jewell\nJoin us as #1 New York Times bestselling author Tiffany Jewell highlights the inequities Black and Brown students face from preschool through college as she presents lessons and knowledge from her new book Everything I Learned About Racism I Learned in School. \nFrom preschool to higher education and everything in between\, Everything I Learned About Racism I Learned in School focuses on the experiences Black and Brown students face as a direct result of the racism built into schools across the United States. \nTo sign up for this FREE virtual event\, please click HERE! \nFor other upcoming virtual talks\, please click HERE!
URL:https://www.adamslib.org/event/virtual-author-talk-tiffany-jewell/
CATEGORIES:Adults
END:VEVENT
BEGIN:VEVENT
DTSTART;TZID=America/New_York:20240627T180000
DTEND;TZID=America/New_York:20240627T193000
DTSTAMP:20260420T021550
CREATED:20240520T081833Z
LAST-MODIFIED:20240520T081833Z
UID:11736-1719511200-1719516600@www.adamslib.org
SUMMARY:Mystery Book Club
DESCRIPTION:Join this outside group every fourth Thursday of each month from 6:00PM to 7:30PM for discussion on thrillers\, mysteries\, whodunits\, and more! \nStop by the circulation desk or call 724-539-1972 for more information!
URL:https://www.adamslib.org/event/mystery-book-club-5/
LOCATION:Adams Memorial Library\, 1112 Ligonier Street\, Latrobe\, PA\, 15650\, United States
CATEGORIES:Adults
END:VEVENT
BEGIN:VEVENT
DTSTART;TZID=America/New_York:20240702T100000
DTEND;TZID=America/New_York:20240702T120000
DTSTAMP:20260420T021550
CREATED:20240520T082257Z
LAST-MODIFIED:20240520T082257Z
UID:11740-1719914400-1719921600@www.adamslib.org
SUMMARY:Knifty Knitters
DESCRIPTION:Knifty Knitters meets at the library every first and third Tuesday of every month!  This group\, made up completely of volunteers\, knits and crochets for various charities.  New knitters are always welcome\, regardless of experience–members will teach! \nFor more information\, stop by the circulation desk or call 724-527-1972! \nWe can’t wait to see you!
URL:https://www.adamslib.org/event/knifty-knitters-12/
LOCATION:Adams Memorial Library\, 1112 Ligonier Street\, Latrobe\, PA\, 15650\, United States
CATEGORIES:Adults
END:VEVENT
BEGIN:VEVENT
DTSTART;TZID=America/New_York:20240711T180000
DTEND;TZID=America/New_York:20240711T193000
DTSTAMP:20260420T021550
CREATED:20240701T203533Z
LAST-MODIFIED:20240701T203533Z
UID:12276-1720720800-1720726200@www.adamslib.org
SUMMARY:Pottery Workshop
DESCRIPTION:Gardening isn’t the only way to bring the beauty of flowers into your home!\n\nIn this pottery workshop you’ll be shown how to create stunning flower dishes and sculptures using clay!  Once your pieces are complete\, they’ll be taken for drying and firing with the glaze color of your choice.  Finished sculptures will be available for pickup at the library on a later date.  There will also be a pottery wheel demonstration for those wondering what working with one might entail.\n\nThis event is perfect for all skill levels\, from those looking for a night of entertainment to those who might want to continue it as a hobby!\n\nSeating is extremely limited\, so register now for your spot!\n\nTo register\, stop by the Upstairs Circulation Desk\, call 724-539-1972\, or sign-up online at https://forms.gle/n7SSg2mtnsiKFoJ7A\n\n 
URL:https://www.adamslib.org/event/pottery-workshop/
LOCATION:Adams Memorial Library\, 1112 Ligonier Street\, Latrobe\, PA\, 15650\, United States
CATEGORIES:Adults
END:VEVENT
BEGIN:VEVENT
DTSTART;TZID=America/New_York:20240716T100000
DTEND;TZID=America/New_York:20240716T120000
DTSTAMP:20260420T021550
CREATED:20240520T082325Z
LAST-MODIFIED:20240520T082325Z
UID:11742-1721124000-1721131200@www.adamslib.org
SUMMARY:Knifty Knitters
DESCRIPTION:Knifty Knitters meets at the library every first and third Tuesday of every month!  This group\, made up completely of volunteers\, knits and crochets for various charities.  New knitters are always welcome\, regardless of experience–members will teach! \nFor more information\, stop by the circulation desk or call 724-527-1972! \nWe can’t wait to see you!
URL:https://www.adamslib.org/event/knifty-knitters-13/
LOCATION:Adams Memorial Library\, 1112 Ligonier Street\, Latrobe\, PA\, 15650\, United States
CATEGORIES:Adults
END:VEVENT
BEGIN:VEVENT
DTSTART;TZID=America/New_York:20240716T180000
DTEND;TZID=America/New_York:20240716T190000
DTSTAMP:20260420T021550
CREATED:20240701T204948Z
LAST-MODIFIED:20240701T204948Z
UID:12279-1721152800-1721156400@www.adamslib.org
SUMMARY:Houseplants: Bringing Joy To Our Homes
DESCRIPTION:Looking to garden this summer but don’t want to go outside?  Then we have the perfect program for you about houseplants! \nCome learn about some easy to care for plants\, how to find the right plant for the right place\, and ways to keep your plants happy and healthy. \nSeating is limited\, please register in advance! \nTo register\, stop by the Upstairs Circulation Desk\, call 724-539-1972\, or sign-up online at https://forms.gle/ZAT9hoYenc5bDV9u9
URL:https://www.adamslib.org/event/houseplants-bringing-joy-to-our-homes/
LOCATION:Adams Memorial Library\, 1112 Ligonier Street\, Latrobe\, PA\, 15650\, United States
CATEGORIES:Adults
END:VEVENT
BEGIN:VEVENT
DTSTART;TZID=America/New_York:20240725T180000
DTEND;TZID=America/New_York:20240725T193000
DTSTAMP:20260420T021550
CREATED:20240520T081907Z
LAST-MODIFIED:20240520T081907Z
UID:11738-1721930400-1721935800@www.adamslib.org
SUMMARY:Mystery Book Club
DESCRIPTION:Join this outside group every fourth Thursday of each month from 6:00PM to 7:30PM for discussion on thrillers\, mysteries\, whodunits\, and more! \nStop by the circulation desk or call 724-539-1972 for more information!
URL:https://www.adamslib.org/event/mystery-book-club-6/
LOCATION:Adams Memorial Library\, 1112 Ligonier Street\, Latrobe\, PA\, 15650\, United States
CATEGORIES:Adults
END:VEVENT
BEGIN:VEVENT
DTSTART;TZID=America/New_York:20240806T100000
DTEND;TZID=America/New_York:20240806T120000
DTSTAMP:20260420T021550
CREATED:20240801T080513Z
LAST-MODIFIED:20240801T080513Z
UID:12469-1722938400-1722945600@www.adamslib.org
SUMMARY:Knifty Knitters
DESCRIPTION:Knifty Knitters meets at the library every first and third Tuesday of every month!  This group\, made up completely of volunteers\, knits and crochets for various charities.  New knitters are always welcome\, regardless of experience–members will teach! \nFor more information\, stop by the circulation desk or call 724-527-1972! \nWe can’t wait to see you!
URL:https://www.adamslib.org/event/knifty-knitters-14/
LOCATION:Adams Memorial Library\, 1112 Ligonier Street\, Latrobe\, PA\, 15650\, United States
CATEGORIES:Adults
END:VEVENT
BEGIN:VEVENT
DTSTART;TZID=America/New_York:20240807T140000
DTEND;TZID=America/New_York:20240807T150000
DTSTAMP:20260420T021550
CREATED:20240730T121150Z
LAST-MODIFIED:20240804T202839Z
UID:12446-1723039200-1723042800@www.adamslib.org
SUMMARY:Virtual Author Talk: Dr. Jennifer Levasseur of the Smithsonian
DESCRIPTION:Step inside one of the greatest international achievements with a virtual behind-the-scenes guide to space exploration with the Smithsonian National Air and Space Museum curator Dr. Jennifer Levasseur on Wednesday\, August 7th at 2 PM ET via digital live-stream in partnership with Adams Memorial Library! \nTo sign up for this FREE virtual event\, please click HERE! \nFor other upcoming (and previous) virtual talks\, please click HERE! \n  \n  \n 
URL:https://www.adamslib.org/event/virtual-author-talk-dr-jennifer-levasseur/
CATEGORIES:Adults
END:VEVENT
BEGIN:VEVENT
DTSTART;TZID=America/New_York:20240820T100000
DTEND;TZID=America/New_York:20240820T120000
DTSTAMP:20260420T021550
CREATED:20240801T080538Z
LAST-MODIFIED:20240801T080538Z
UID:12472-1724148000-1724155200@www.adamslib.org
SUMMARY:Knifty Knitters
DESCRIPTION:Knifty Knitters meets at the library every first and third Tuesday of every month!  This group\, made up completely of volunteers\, knits and crochets for various charities.  New knitters are always welcome\, regardless of experience–members will teach! \nFor more information\, stop by the circulation desk or call 724-527-1972! \nWe can’t wait to see you!
URL:https://www.adamslib.org/event/knifty-knitters-15/
LOCATION:Adams Memorial Library\, 1112 Ligonier Street\, Latrobe\, PA\, 15650\, United States
CATEGORIES:Adults
END:VEVENT
BEGIN:VEVENT
DTSTART;TZID=America/New_York:20240821T190000
DTEND;TZID=America/New_York:20240821T200000
DTSTAMP:20260420T021550
CREATED:20240730T121545Z
LAST-MODIFIED:20240801T091454Z
UID:12452-1724266800-1724270400@www.adamslib.org
SUMMARY:Virtual Author Talk: Shelby Van Pelt
DESCRIPTION:We invite you to come and chat with New York Times bestselling author Shelby Van Pelt about her beloved novel Remarkably Bright Creatures. You don’t want to miss this deep dive exploration of friendship\, reckoning\, hope\, and so much more! \nCharming\, compulsively readable\, and full of wit\, Shelby Van Pelt’s debut novel is a beautiful exploration of friendship\, reckoning\, and hope–a reminder that sometimes taking a hard look at the past can help uncover a future that once felt impossible. \nTo sign up for this FREE virtual event\, please click HERE! \nFor other upcoming (and previous) virtual talks\, please click HERE!
URL:https://www.adamslib.org/event/virtual-author-talk-shelby-van-pelt/
CATEGORIES:Adults
END:VEVENT
BEGIN:VEVENT
DTSTART;TZID=America/New_York:20240822T180000
DTEND;TZID=America/New_York:20240822T193000
DTSTAMP:20260420T021550
CREATED:20240821T033328Z
LAST-MODIFIED:20240821T033328Z
UID:12555-1724349600-1724355000@www.adamslib.org
SUMMARY:Mystery Book Club
DESCRIPTION:Join this outside group every fourth Thursday of each month from 6:00PM to 7:30PM for discussion on thrillers\, mysteries\, whodunits\, and more! \nStop by the circulation desk or call 724-539-1972 for more information!
URL:https://www.adamslib.org/event/mystery-book-club-7/
LOCATION:Adams Memorial Library\, 1112 Ligonier Street\, Latrobe\, PA\, 15650\, United States
CATEGORIES:Adults
END:VEVENT
BEGIN:VEVENT
DTSTART;TZID=America/New_York:20240903T100000
DTEND;TZID=America/New_York:20240903T120000
DTSTAMP:20260420T021550
CREATED:20240801T084456Z
LAST-MODIFIED:20240801T084456Z
UID:12480-1725357600-1725364800@www.adamslib.org
SUMMARY:Knifty Knitters
DESCRIPTION:Knifty Knitters meets at the library every first and third Tuesday of every month!  This group\, made up completely of volunteers\, knits and crochets for various charities.  New knitters are always welcome\, regardless of experience–members will teach! \nFor more information\, stop by the circulation desk or call 724-527-1972! \nWe can’t wait to see you!
URL:https://www.adamslib.org/event/knifty-knitters-16/
LOCATION:Adams Memorial Library\, 1112 Ligonier Street\, Latrobe\, PA\, 15650\, United States
CATEGORIES:Adults
END:VEVENT
BEGIN:VEVENT
DTSTART;TZID=America/New_York:20240910T140000
DTEND;TZID=America/New_York:20240910T150000
DTSTAMP:20260420T021550
CREATED:20240907T030644Z
LAST-MODIFIED:20240907T030644Z
UID:12681-1725976800-1725980400@www.adamslib.org
SUMMARY:Virtual Author Talk with Garrett Graff: A 9/11 & D-Day Talk
DESCRIPTION:Garrett Graff\, an expert on capturing the human drama through history\, is joining us online to discuss the oral histories of 9/11 and D-Day\, all told in the words of those who experienced those dramatic and tragic days.\n\nTo sign up for this FREE virtual event\, please click HERE! \nFor other upcoming (and previous) virtual talks\, please click HERE!
URL:https://www.adamslib.org/event/virtual-author-talk-with-garrett-graff-a-9-11-d-day-talk/
CATEGORIES:Adults
END:VEVENT
BEGIN:VEVENT
DTSTART;TZID=America/New_York:20240917T100000
DTEND;TZID=America/New_York:20240917T120000
DTSTAMP:20260420T021550
CREATED:20240801T084521Z
LAST-MODIFIED:20240801T084521Z
UID:12482-1726567200-1726574400@www.adamslib.org
SUMMARY:Knifty Knitters
DESCRIPTION:Knifty Knitters meets at the library every first and third Tuesday of every month!  This group\, made up completely of volunteers\, knits and crochets for various charities.  New knitters are always welcome\, regardless of experience–members will teach! \nFor more information\, stop by the circulation desk or call 724-527-1972! \nWe can’t wait to see you!
URL:https://www.adamslib.org/event/knifty-knitters-17/
LOCATION:Adams Memorial Library\, 1112 Ligonier Street\, Latrobe\, PA\, 15650\, United States
CATEGORIES:Adults
END:VEVENT
BEGIN:VEVENT
DTSTART;TZID=America/New_York:20240918T140000
DTEND;TZID=America/New_York:20240918T150000
DTSTAMP:20260420T021550
CREATED:20240907T030809Z
LAST-MODIFIED:20240907T030809Z
UID:12685-1726668000-1726671600@www.adamslib.org
SUMMARY:Virtual Author Talk with Nate Klemp
DESCRIPTION:Drawing on personal stories\, scientific findings\, and traditional wisdom\, Klemp will explore why we close down when faced with stressors or threats―then reveal why training ourselves to fully engage even with discomfort\, pain\, and sadness will lead to our greater well-being in the long run\nTo sign up for this FREE virtual event\, please click HERE! \nFor other upcoming (and previous) virtual talks\, please click HERE!
URL:https://www.adamslib.org/event/virtual-author-talk-with-nate-klemp/
CATEGORIES:Adults
END:VEVENT
BEGIN:VEVENT
DTSTART;TZID=America/New_York:20240921T190000
DTEND;TZID=America/New_York:20240921T200000
DTSTAMP:20260420T021550
CREATED:20240907T030959Z
LAST-MODIFIED:20240907T030959Z
UID:12689-1726945200-1726948800@www.adamslib.org
SUMMARY:Virtual Author Talk with Liane Moriarty
DESCRIPTION:If you knew your future\, would you try to fight fate? If you were told you only had a certain amount of time left to live\, would you do things differently? Would you try to dodge your destiny? Join us as we chat with mega-bestselling author Liane Moriarty about her newest novel Here One Moment. Moriarty’s Here One Moment is a brilliantly constructed tale that looks at free will and destiny\, grief and love\, and the endless struggle to maintain certainty and control in an uncertain world.\nTo sign up for this FREE virtual event\, please click HERE! \nFor other upcoming (and previous) virtual talks\, please click HERE!
URL:https://www.adamslib.org/event/virtual-author-talk-with-liane-moriarty/
CATEGORIES:Adults
END:VEVENT
BEGIN:VEVENT
DTSTART;TZID=America/New_York:20240926T180000
DTEND;TZID=America/New_York:20240926T193000
DTSTAMP:20260420T021550
CREATED:20240821T033352Z
LAST-MODIFIED:20240821T033352Z
UID:12557-1727373600-1727379000@www.adamslib.org
SUMMARY:Mystery Book Club
DESCRIPTION:Join this outside group every fourth Thursday of each month from 6:00PM to 7:30PM for discussion on thrillers\, mysteries\, whodunits\, and more! \nStop by the circulation desk or call 724-539-1972 for more information!
URL:https://www.adamslib.org/event/mystery-book-club-8/
LOCATION:Adams Memorial Library\, 1112 Ligonier Street\, Latrobe\, PA\, 15650\, United States
CATEGORIES:Adults
END:VEVENT
BEGIN:VEVENT
DTSTART;TZID=America/New_York:20240928T130000
DTEND;TZID=America/New_York:20240928T143000
DTSTAMP:20260420T021550
CREATED:20240907T031904Z
LAST-MODIFIED:20240907T194116Z
UID:12695-1727528400-1727533800@www.adamslib.org
SUMMARY:Stan Gordon: Paranormal in Our Own Backyard
DESCRIPTION:Local cryptozoologist Stan Gordon will be updating us on his new research findings into UFOs\, Bigfoot\, Cryptids\, and the other unexplained phenomena in our local area and statewide.\n\nThis program is free but registration is required due to limited seating.\nPLEASE NOTE: This program is at our branch in Derry!\n\nTo register\, call Caldwell Memorial Library at 724-694-1401 ext. 3110 or Adams Memorial Library at 724-539-1972.  You can also register online by clicking HERE.
URL:https://www.adamslib.org/event/stan-gordon-paranormal-in-our-own-backyard/
LOCATION:Caldwell Memorial Library\, Derry Area High School 988 N. Chestnut St Ext\, Derry\, PA\, 15627\, United States
CATEGORIES:Adults
END:VEVENT
BEGIN:VEVENT
DTSTART;TZID=America/New_York:20241001T100000
DTEND;TZID=America/New_York:20241001T120000
DTSTAMP:20260420T021550
CREATED:20240821T033558Z
LAST-MODIFIED:20240821T033558Z
UID:12563-1727776800-1727784000@www.adamslib.org
SUMMARY:Knifty Knitters
DESCRIPTION:Knifty Knitters meets at the library every first and third Tuesday of every month!  This group\, made up completely of volunteers\, knits and crochets for various charities.  New knitters are always welcome\, regardless of experience–members will teach! \nFor more information\, stop by the circulation desk or call 724-527-1972! \nWe can’t wait to see you!
URL:https://www.adamslib.org/event/knifty-knitters-18/
LOCATION:Adams Memorial Library\, 1112 Ligonier Street\, Latrobe\, PA\, 15650\, United States
CATEGORIES:Adults
END:VEVENT
BEGIN:VEVENT
DTSTART;TZID=America/New_York:20241002T140000
DTEND;TZID=America/New_York:20241002T150000
DTSTAMP:20260420T021550
CREATED:20240927T094700Z
LAST-MODIFIED:20240930T095535Z
UID:12744-1727877600-1727881200@www.adamslib.org
SUMMARY:Virtual Author Talk: A Journey into the Hidden World of Tropical Bats
DESCRIPTION:We are kicking off October with three Smithsonian-affiliated scientists to teach us about the remarkable world of tropical bats with bat experts\, Dr. Rachel Page\, Dr. Dina Dechmann\, and Dr. Teague O’Mara! \nJoin us online on Wednesday\, October 2nd at 2 PM via digital live-stream! \nTo sign up for this FREE virtual event\, please click HERE! \nFor other upcoming (and previous) virtual talks\, please click HERE!
URL:https://www.adamslib.org/event/virtual-author-talk-a-journey-into-the-hidden-world-of-tropical-bats/
CATEGORIES:Adults
END:VEVENT
BEGIN:VEVENT
DTSTART;TZID=America/New_York:20241002T180000
DTEND;TZID=America/New_York:20241002T193000
DTSTAMP:20260420T021550
CREATED:20240927T094236Z
LAST-MODIFIED:20240927T094236Z
UID:12741-1727892000-1727897400@www.adamslib.org
SUMMARY:It's Time to Get Spooky! with the Greensburg Ghost Society
DESCRIPTION:The Greensburg Ghost Society will be paying us a visit to explain to us how they investigate paranormal claims. They’ll tell us how they use all sorts of tools and techniques from photographs and audio recordings to EMF meters and spirit boxes to detect and communicate with entities from the spiritual realm. While their main goal is to gather empirical evidence that supports the existence of ghosts and other supernatural phenomena they hope to help individuals find peace of mind by providing rational explanations for their experiences.\n\nTo sign up for this event\, please stop by the circulation desk or call 724-539-1972.
URL:https://www.adamslib.org/event/its-time-to-get-spooky-with-the-greensburg-ghost-society/
LOCATION:Adams Memorial Library\, 1112 Ligonier Street\, Latrobe\, PA\, 15650\, United States
CATEGORIES:Adults
END:VEVENT
BEGIN:VEVENT
DTSTART;TZID=America/New_York:20241009T190000
DTEND;TZID=America/New_York:20241009T200000
DTSTAMP:20260420T021550
CREATED:20240927T095227Z
LAST-MODIFIED:20240927T104105Z
UID:12747-1728500400-1728504000@www.adamslib.org
SUMMARY:Virtual Author Talk with Silvia Moreno-Garcia
DESCRIPTION:Moreno-Garcia chats with us about Latin American Genre fiction\, her writing process and journey\, as well as her newest book The Seventh Veil of Salome. \nSet in 1950s Hollywood\, The Seventh Veil of Salome follows Vera Larios Nancy Hartley\, two actresses trying to make it to the top in the Golden Age of Holly Wood. Vera\, an unknown Mexican ingénue\, has just won a star-making role in a big budget movie about Salome\, and is quickly becoming the talk of the town. Nancy\, an envious actress whose career has stalled and who will do anything to win the fame she believes she richly deserves. \nTo sign up for this FREE virtual event\, please click HERE! \nFor other upcoming (and previous) virtual talks\, please click HERE!
URL:https://www.adamslib.org/event/virtual-author-talk-silvia-moreno-garcia/
CATEGORIES:Adults
END:VEVENT
BEGIN:VEVENT
DTSTART;TZID=America/New_York:20241010T180000
DTEND;TZID=America/New_York:20241010T193000
DTSTAMP:20260420T021550
CREATED:20240927T101618Z
LAST-MODIFIED:20240927T101618Z
UID:12806-1728583200-1728588600@www.adamslib.org
SUMMARY:The Waldorf Effect
DESCRIPTION:For almost 100 years the Waldorf Estate\, a former hotel located in Lehighton\, Pennsylvania\, has been home to the grisly tale of Oliver Sommersby who murdered 25 people over the course of ten years.  Even after his gruesome reign came to an end all those who have spent time within the Waldorf have experienced all sort of strange phenomena.\n\nProducer\, author\, and psychic\, Laurissa Rex will share her research into the hauntings surrounding the Waldorf Estate\, including the 24 hours her and her team spent inside its walls.\n\nMore on the Waldorf Estate will soon be appearing in her upcoming TV series\, 24 Hours in Hell and book\, The Waldorf Effect.\n\nTo sign up\, please stop by the circulation desk or call 724-539-1972.
URL:https://www.adamslib.org/event/the-waldorf-effect/
LOCATION:Adams Memorial Library\, 1112 Ligonier Street\, Latrobe\, PA\, 15650\, United States
CATEGORIES:Adults
END:VEVENT
BEGIN:VEVENT
DTSTART;TZID=America/New_York:20241015T100000
DTEND;TZID=America/New_York:20241015T120000
DTSTAMP:20260420T021550
CREATED:20240821T033622Z
LAST-MODIFIED:20240821T033622Z
UID:12565-1728986400-1728993600@www.adamslib.org
SUMMARY:Knifty Knitters
DESCRIPTION:Knifty Knitters meets at the library every first and third Tuesday of every month!  This group\, made up completely of volunteers\, knits and crochets for various charities.  New knitters are always welcome\, regardless of experience–members will teach! \nFor more information\, stop by the circulation desk or call 724-527-1972! \nWe can’t wait to see you!
URL:https://www.adamslib.org/event/knifty-knitters-19/
LOCATION:Adams Memorial Library\, 1112 Ligonier Street\, Latrobe\, PA\, 15650\, United States
CATEGORIES:Adults
END:VEVENT
BEGIN:VEVENT
DTSTART;TZID=America/New_York:20241016T180000
DTEND;TZID=America/New_York:20241016T193000
DTSTAMP:20260420T021550
CREATED:20240927T101748Z
LAST-MODIFIED:20240927T104123Z
UID:12809-1729101600-1729107000@www.adamslib.org
SUMMARY:Finding Our Foremothers
DESCRIPTION:It is often hard to track down female ancestors. Not just because of a change of name for marriage\, but also because of other legal and social aspects. Using actual case histories\, learn how you too can find some of your own family’s hidden history.\n\nTo sign up for this event\, stop by the Circulation Desk or call 724-539-1972.
URL:https://www.adamslib.org/event/finding-our-foremothers/
LOCATION:Adams Memorial Library\, 1112 Ligonier Street\, Latrobe\, PA\, 15650\, United States
CATEGORIES:Adults
END:VEVENT
END:VCALENDAR