BEGIN:VCALENDAR
VERSION:2.0
PRODID:-//Adams Memorial Library - ECPv6.15.20//NONSGML v1.0//EN
CALSCALE:GREGORIAN
METHOD:PUBLISH
X-ORIGINAL-URL:https://www.adamslib.org
X-WR-CALDESC:Events for Adams Memorial Library
REFRESH-INTERVAL;VALUE=DURATION:PT1H
X-Robots-Tag:noindex
X-PUBLISHED-TTL:PT1H
BEGIN:VTIMEZONE
TZID:America/New_York
BEGIN:DAYLIGHT
TZOFFSETFROM:-0500
TZOFFSETTO:-0400
TZNAME:EDT
DTSTART:20250309T070000
END:DAYLIGHT
BEGIN:STANDARD
TZOFFSETFROM:-0400
TZOFFSETTO:-0500
TZNAME:EST
DTSTART:20251102T060000
END:STANDARD
BEGIN:DAYLIGHT
TZOFFSETFROM:-0500
TZOFFSETTO:-0400
TZNAME:EDT
DTSTART:20260308T070000
END:DAYLIGHT
BEGIN:STANDARD
TZOFFSETFROM:-0400
TZOFFSETTO:-0500
TZNAME:EST
DTSTART:20261101T060000
END:STANDARD
BEGIN:DAYLIGHT
TZOFFSETFROM:-0500
TZOFFSETTO:-0400
TZNAME:EDT
DTSTART:20270314T070000
END:DAYLIGHT
BEGIN:STANDARD
TZOFFSETFROM:-0400
TZOFFSETTO:-0500
TZNAME:EST
DTSTART:20271107T060000
END:STANDARD
END:VTIMEZONE
BEGIN:VEVENT
DTSTART;TZID=America/New_York:20260421T130000
DTEND;TZID=America/New_York:20260421T160000
DTSTAMP:20260420T180147
CREATED:20260323T141540Z
LAST-MODIFIED:20260323T141540Z
UID:16208-1776776400-1776787200@www.adamslib.org
SUMMARY:Simply Mahjong
DESCRIPTION:Interested in learning how to play Mahjong?  Starting on Tuesday\, April 7 learn the rules of how to play Mahjong using the official cards and league manual.  From there\, weekly Mahjong sessions will be held where players will continue to learn the game by playing with others in-person.\n\nAnd don’t worry\, this is a beginner friendly group so reminders will be given if you need them. Space is Limited!\n\nTo register\, stop by the Upstairs Circulation Desk or call 724-539-1972!
URL:https://www.adamslib.org/event/simply-mahjong-18/
LOCATION:Adams Memorial Library\, 1112 Ligonier Street\, Latrobe\, PA\, 15650\, United States
CATEGORIES:Adults
END:VEVENT
BEGIN:VEVENT
DTSTART;TZID=America/New_York:20260422T140000
DTEND;TZID=America/New_York:20260422T150000
DTSTAMP:20260420T180147
CREATED:20260323T144502Z
LAST-MODIFIED:20260323T144542Z
UID:16247-1776866400-1776870000@www.adamslib.org
SUMMARY:Lush Lyricism and Intimate Confessions: a Virtual Talk with Miranda Cowley Heller
DESCRIPTION:Award-winning and bestselling author Miranda Cowley Heller takes us on an intimate journey through the life stages of a woman in her new poetry collection\,  What the Deep Water Knows.\n\nDelicate\, yet exceedingly raw\, these poems will transport you as vividly as any work of fiction.\n\n\nTo sign up for this FREE virtual event\, please click HERE! \nFor other upcoming (and previous) virtual talks\, please click HERE!
URL:https://www.adamslib.org/event/author-talk-miranda-cowley-heller/
LOCATION:Virtual Author Talks
CATEGORIES:Adults
END:VEVENT
BEGIN:VEVENT
DTSTART;TZID=America/New_York:20260423T180000
DTEND;TZID=America/New_York:20260423T193000
DTSTAMP:20260420T180147
CREATED:20260124T113438Z
LAST-MODIFIED:20260124T113438Z
UID:15875-1776967200-1776972600@www.adamslib.org
SUMMARY:Mystery Book Club
DESCRIPTION:Join this outside group every fourth Thursday of each month from 6:00PM to 7:30PM for discussion on thrillers\, mysteries\, whodunits\, and more! \nStop by the circulation desk or call 724-539-1972 for more information!
URL:https://www.adamslib.org/event/mystery-book-club-16/
LOCATION:Adams Memorial Library\, 1112 Ligonier Street\, Latrobe\, PA\, 15650\, United States
CATEGORIES:Adults
END:VEVENT
BEGIN:VEVENT
DTSTART;TZID=America/New_York:20260428T130000
DTEND;TZID=America/New_York:20260428T160000
DTSTAMP:20260420T180147
CREATED:20260323T141611Z
LAST-MODIFIED:20260323T141611Z
UID:16210-1777381200-1777392000@www.adamslib.org
SUMMARY:Simply Mahjong
DESCRIPTION:Interested in learning how to play Mahjong?  Starting on Tuesday\, April 7 learn the rules of how to play Mahjong using the official cards and league manual.  From there\, weekly Mahjong sessions will be held where players will continue to learn the game by playing with others in-person.\n\nAnd don’t worry\, this is a beginner friendly group so reminders will be given if you need them. Space is Limited!\n\nTo register\, stop by the Upstairs Circulation Desk or call 724-539-1972!
URL:https://www.adamslib.org/event/simply-mahjong-19/
LOCATION:Adams Memorial Library\, 1112 Ligonier Street\, Latrobe\, PA\, 15650\, United States
CATEGORIES:Adults
END:VEVENT
BEGIN:VEVENT
DTSTART;TZID=America/New_York:20260429T180000
DTEND;TZID=America/New_York:20260429T193000
DTSTAMP:20260420T180147
CREATED:20260323T144729Z
LAST-MODIFIED:20260323T144729Z
UID:16250-1777485600-1777491000@www.adamslib.org
SUMMARY:George Washington: The Greatest American?
DESCRIPTION:No one might better fit the bill of a true American than George Washington.\n\nJoin us as Martin West examines key moments that defined Washington’s life and character—from the influence of his stepbrother that led him to join the Virginia militia\, to his work as a Virginia statesman advocating colonial rights. These experiences earned him the respect of his fellow countrymen and appointment of Commander-in-Chief of the Continental Army and later the first president of the United States.  With his accomplishments and revered character it begs the question was Washington possibly THE Greatest American?\n\nMartin West holds a Master of Arts in Public History and was the director of Fort Ligonier for three decades.  He also served for seven years on the Advisory Council of George Washington Scholars\, Mount Vernon\, Virginia\, and annotated Washington’s “Remarks” for George Washington Remembers: Reflection the French and Indian War.  West wrote the book\, Bouquet’s Expedition Against the Ohio Indians in 1764\, Kent State University Press\, 2017.\n\n\nTo register\, stop by the Upstairs Circulation Desk\, call 724-539-1972\, or click HERE
URL:https://www.adamslib.org/event/george-washington-the-greatest-american/
LOCATION:Adams Memorial Library\, 1112 Ligonier Street\, Latrobe\, PA\, 15650\, United States
CATEGORIES:Adults
END:VEVENT
BEGIN:VEVENT
DTSTART;TZID=America/New_York:20260505T130000
DTEND;TZID=America/New_York:20260505T160000
DTSTAMP:20260420T180147
CREATED:20260323T141644Z
LAST-MODIFIED:20260323T141958Z
UID:16212-1777986000-1777996800@www.adamslib.org
SUMMARY:Simply Mahjong
DESCRIPTION:Interested in learning how to play Mahjong?  Starting on Tuesday\, April 7 learn the rules of how to play Mahjong using the official cards and league manual.  From there\, weekly Mahjong sessions will be held where players will continue to learn the game by playing with others in-person.\n\nAnd don’t worry\, this is a beginner friendly group so reminders will be given if you need them. Space is Limited!\n\nTo register\, stop by the Upstairs Circulation Desk or call 724-539-1972!
URL:https://www.adamslib.org/event/simply-mahjong-20/
LOCATION:Adams Memorial Library\, 1112 Ligonier Street\, Latrobe\, PA\, 15650\, United States
CATEGORIES:Adults
END:VEVENT
BEGIN:VEVENT
DTSTART;TZID=America/New_York:20260506T180000
DTEND;TZID=America/New_York:20260506T193000
DTSTAMP:20260420T180147
CREATED:20260420T082832Z
LAST-MODIFIED:20260420T082832Z
UID:16389-1778090400-1778095800@www.adamslib.org
SUMMARY:Returning to the Road
DESCRIPTION:Summit Legal Aid has a new program to restore driver’s licenses in their ten-county region. \nIndividuals who have lost\, or are in danger of losing\, their driving privileges can now turn to Summit Legal Aid for assistance. For many individuals\, past fines\, suspensions\, or legal complications have created obstacles that are difficult to navigate without legal help\, and Summit Legal Aid can help navigate the complicated restoration requirements in Pennsylvania. \nServices include providing free\, personalized legal help with navigating PennDOT restoration requirements\, appeals\, and assistance with applying for probationary licenses\, occupational limited licenses\, and ignition interlock licenses. \nThis program is FREE but registration is required. \nTo register\, stop by the Upstairs Circulation Desk\, call 724-539-1972\, or click HERE
URL:https://www.adamslib.org/event/returning-to-the-road/
LOCATION:Adams Memorial Library\, 1112 Ligonier Street\, Latrobe\, PA\, 15650\, United States
CATEGORIES:Adults
END:VEVENT
BEGIN:VEVENT
DTSTART;TZID=America/New_York:20260507T190000
DTEND;TZID=America/New_York:20260507T200000
DTSTAMP:20260420T180147
CREATED:20260420T083043Z
LAST-MODIFIED:20260420T085454Z
UID:16393-1778180400-1778184000@www.adamslib.org
SUMMARY:On Courage\, Turmoil\, and the Transformative Power of Love: a virtual talk with Marjan Kamali
DESCRIPTION:Join us for an exciting conversation with internationally acclaimed author Marjan Kamali as we delve into the timeless wonder of her New York Times bestselling novel\, The Lion Women of Tehran\, a story of two young women coming of age and pursuing their own goals for meaningful futures in 1950s Tehran as political turmoil in Iran builds to a breaking point.\n\nTo sign up for this FREE virtual event\, please click HERE! \nFor other upcoming (and previous) virtual talks\, please click HERE!
URL:https://www.adamslib.org/event/author-talk-marjan-kamali/
LOCATION:Virtual Author Talks
CATEGORIES:Adults
END:VEVENT
BEGIN:VEVENT
DTSTART;TZID=America/New_York:20260512T130000
DTEND;TZID=America/New_York:20260512T160000
DTSTAMP:20260420T180147
CREATED:20260323T141752Z
LAST-MODIFIED:20260323T142031Z
UID:16214-1778590800-1778601600@www.adamslib.org
SUMMARY:Simply Mahjong
DESCRIPTION:Interested in learning how to play Mahjong?  Starting on Tuesday\, April 7 learn the rules of how to play Mahjong using the official cards and league manual.  From there\, weekly Mahjong sessions will be held where players will continue to learn the game by playing with others in-person.\n\nAnd don’t worry\, this is a beginner friendly group so reminders will be given if you need them. Space is Limited!\n\nTo register\, stop by the Upstairs Circulation Desk or call 724-539-1972!
URL:https://www.adamslib.org/event/simply-mahjong-21/
LOCATION:Adams Memorial Library\, 1112 Ligonier Street\, Latrobe\, PA\, 15650\, United States
CATEGORIES:Adults
END:VEVENT
BEGIN:VEVENT
DTSTART;TZID=America/New_York:20260512T140000
DTEND;TZID=America/New_York:20260512T150000
DTSTAMP:20260420T180147
CREATED:20260420T083720Z
LAST-MODIFIED:20260420T085526Z
UID:16406-1778594400-1778598000@www.adamslib.org
SUMMARY:How to Robot-Proof Your Kids (and Yourself): a virtual talk with Dr. Vivienne Ming
DESCRIPTION:Join us for a timely conversation on AI\, humanity\, and the next steps towards building a better future with self-proclaimed “mad scientist” Dr. Vivienne Ming as we discuss Robot-Proof: When Machines Have All the Answers\, Build Better People.\n\nIn Robot-Proof\, Dr. Vivienne Ming helps readers grasp the ugly and the amazing of how individuals\, companies\, and societies will respond to the changes that are already taking hold due to the advent of AI. Robot-Proof is a book about people\, exploring what it means to be human in an increasingly automated world.\n\nTo sign up for this FREE virtual event\, please click HERE! \nFor other upcoming (and previous) virtual talks\, please click HERE!
URL:https://www.adamslib.org/event/author-talk-dr-vivienne-ming/
LOCATION:Virtual Author Talks
CATEGORIES:Adults
END:VEVENT
BEGIN:VEVENT
DTSTART;TZID=America/New_York:20260519T130000
DTEND;TZID=America/New_York:20260519T160000
DTSTAMP:20260420T180147
CREATED:20260323T141825Z
LAST-MODIFIED:20260323T142038Z
UID:16216-1779195600-1779206400@www.adamslib.org
SUMMARY:Simply Mahjong
DESCRIPTION:Interested in learning how to play Mahjong?  Starting on Tuesday\, April 7 learn the rules of how to play Mahjong using the official cards and league manual.  From there\, weekly Mahjong sessions will be held where players will continue to learn the game by playing with others in-person.\n\nAnd don’t worry\, this is a beginner friendly group so reminders will be given if you need them. Space is Limited!\n\nTo register\, stop by the Upstairs Circulation Desk or call 724-539-1972!
URL:https://www.adamslib.org/event/simply-mahjong-22/
LOCATION:Adams Memorial Library\, 1112 Ligonier Street\, Latrobe\, PA\, 15650\, United States
CATEGORIES:Adults
END:VEVENT
BEGIN:VEVENT
DTSTART;TZID=America/New_York:20260519T140000
DTEND;TZID=America/New_York:20260519T150000
DTSTAMP:20260420T180147
CREATED:20260420T085425Z
LAST-MODIFIED:20260420T085546Z
UID:16418-1779199200-1779202800@www.adamslib.org
SUMMARY:Reshape Your Beliefs and Unlock Your True Potential: a virtual talk with Nir Eyal
DESCRIPTION:In Beyond Belief\, Nir Eyal reveals how the hidden assumptions you carry shape what you see\, how you feel\, and what you do—and how to replace them with beliefs that unlock your true potential. Grounded in neuroscience\, psychology\, and unforgettable case studies\, Eyal introduces the Three Powers of Belief: Attention\, Anticipation\, and Agency.\n\nBeyond Belief reveals the science behind incredible breakthroughs and shows why your limits aren’t fixed—they’re learned.\n\nTo sign up for this FREE virtual event\, please click HERE! \nFor other upcoming (and previous) virtual talks\, please click HERE!
URL:https://www.adamslib.org/event/author-talk-with-nir-eyal/
LOCATION:Virtual Author Talks
CATEGORIES:Adults
END:VEVENT
BEGIN:VEVENT
DTSTART;TZID=America/New_York:20260526T130000
DTEND;TZID=America/New_York:20260526T160000
DTSTAMP:20260420T180147
CREATED:20260323T142100Z
LAST-MODIFIED:20260323T142100Z
UID:16218-1779800400-1779811200@www.adamslib.org
SUMMARY:Simply Mahjong
DESCRIPTION:Interested in learning how to play Mahjong?  Starting on Tuesday\, April 7 learn the rules of how to play Mahjong using the official cards and league manual.  From there\, weekly Mahjong sessions will be held where players will continue to learn the game by playing with others in-person.\n\nAnd don’t worry\, this is a beginner friendly group so reminders will be given if you need them. Space is Limited!\n\nTo register\, stop by the Upstairs Circulation Desk or call 724-539-1972!
URL:https://www.adamslib.org/event/simply-mahjong-23/
LOCATION:Adams Memorial Library\, 1112 Ligonier Street\, Latrobe\, PA\, 15650\, United States
CATEGORIES:Adults
END:VEVENT
BEGIN:VEVENT
DTSTART;TZID=America/New_York:20260527T180000
DTEND;TZID=America/New_York:20260527T193000
DTSTAMP:20260420T180147
CREATED:20260420T090606Z
LAST-MODIFIED:20260420T090606Z
UID:16437-1779904800-1779910200@www.adamslib.org
SUMMARY:Hands-On Aromatherapy
DESCRIPTION:Join us as a certified aromatherapist shows us some natural relief techniques on our hands with essential oils\, including how to gently care for gardening blisters\, remove germs\, and also how to do a hand massage.  After all\, our hands do a lot for us\, it’s only fair that we treat them well.\n\nThis program is FREE but registration is required.\n\nTo register\, stop by the Upstairs Circulation Desk\, call 724-539-1972\, or click HERE
URL:https://www.adamslib.org/event/hands-on-aromatherapy/
LOCATION:Adams Memorial Library\, 1112 Ligonier Street\, Latrobe\, PA\, 15650\, United States
CATEGORIES:Adults
END:VEVENT
BEGIN:VEVENT
DTSTART;TZID=America/New_York:20260528T180000
DTEND;TZID=America/New_York:20260528T193000
DTSTAMP:20260420T180147
CREATED:20260124T113506Z
LAST-MODIFIED:20260124T113506Z
UID:15877-1779991200-1779996600@www.adamslib.org
SUMMARY:Mystery Book Club
DESCRIPTION:Join this outside group every fourth Thursday of each month from 6:00PM to 7:30PM for discussion on thrillers\, mysteries\, whodunits\, and more! \nStop by the circulation desk or call 724-539-1972 for more information!
URL:https://www.adamslib.org/event/mystery-book-club-17/
LOCATION:Adams Memorial Library\, 1112 Ligonier Street\, Latrobe\, PA\, 15650\, United States
CATEGORIES:Adults
END:VEVENT
BEGIN:VEVENT
DTSTART;TZID=America/New_York:20260625T180000
DTEND;TZID=America/New_York:20260625T193000
DTSTAMP:20260420T180147
CREATED:20260124T113533Z
LAST-MODIFIED:20260124T113533Z
UID:15879-1782410400-1782415800@www.adamslib.org
SUMMARY:Mystery Book Club
DESCRIPTION:Join this outside group every fourth Thursday of each month from 6:00PM to 7:30PM for discussion on thrillers\, mysteries\, whodunits\, and more! \nStop by the circulation desk or call 724-539-1972 for more information!
URL:https://www.adamslib.org/event/mystery-book-club-18/
LOCATION:Adams Memorial Library\, 1112 Ligonier Street\, Latrobe\, PA\, 15650\, United States
CATEGORIES:Adults
END:VEVENT
BEGIN:VEVENT
DTSTART;TZID=America/New_York:20260723T180000
DTEND;TZID=America/New_York:20260723T193000
DTSTAMP:20260420T180147
CREATED:20260124T113603Z
LAST-MODIFIED:20260124T113603Z
UID:15881-1784829600-1784835000@www.adamslib.org
SUMMARY:Mystery Book Club
DESCRIPTION:Join this outside group every fourth Thursday of each month from 6:00PM to 7:30PM for discussion on thrillers\, mysteries\, whodunits\, and more! \nStop by the circulation desk or call 724-539-1972 for more information!
URL:https://www.adamslib.org/event/mystery-book-club-19/
LOCATION:Adams Memorial Library\, 1112 Ligonier Street\, Latrobe\, PA\, 15650\, United States
CATEGORIES:Adults
END:VEVENT
BEGIN:VEVENT
DTSTART;TZID=America/New_York:20260827T180000
DTEND;TZID=America/New_York:20260827T193000
DTSTAMP:20260420T180147
CREATED:20260124T113648Z
LAST-MODIFIED:20260124T113648Z
UID:15883-1787853600-1787859000@www.adamslib.org
SUMMARY:Mystery Book Club
DESCRIPTION:Join this outside group every fourth Thursday of each month from 6:00PM to 7:30PM for discussion on thrillers\, mysteries\, whodunits\, and more! \nStop by the circulation desk or call 724-539-1972 for more information!
URL:https://www.adamslib.org/event/mystery-book-club-20/
LOCATION:Adams Memorial Library\, 1112 Ligonier Street\, Latrobe\, PA\, 15650\, United States
CATEGORIES:Adults
END:VEVENT
BEGIN:VEVENT
DTSTART;TZID=America/New_York:20260924T180000
DTEND;TZID=America/New_York:20260924T193000
DTSTAMP:20260420T180147
CREATED:20260124T113716Z
LAST-MODIFIED:20260124T113716Z
UID:15885-1790272800-1790278200@www.adamslib.org
SUMMARY:Mystery Book Club
DESCRIPTION:Join this outside group every fourth Thursday of each month from 6:00PM to 7:30PM for discussion on thrillers\, mysteries\, whodunits\, and more! \nStop by the circulation desk or call 724-539-1972 for more information!
URL:https://www.adamslib.org/event/mystery-book-club-21/
LOCATION:Adams Memorial Library\, 1112 Ligonier Street\, Latrobe\, PA\, 15650\, United States
CATEGORIES:Adults
END:VEVENT
BEGIN:VEVENT
DTSTART;TZID=America/New_York:20261022T180000
DTEND;TZID=America/New_York:20261022T193000
DTSTAMP:20260420T180147
CREATED:20260124T113754Z
LAST-MODIFIED:20260124T113754Z
UID:15887-1792692000-1792697400@www.adamslib.org
SUMMARY:Mystery Book Club
DESCRIPTION:Join this outside group every fourth Thursday of each month from 6:00PM to 7:30PM for discussion on thrillers\, mysteries\, whodunits\, and more! \nStop by the circulation desk or call 724-539-1972 for more information!
URL:https://www.adamslib.org/event/mystery-book-club-22/
LOCATION:Adams Memorial Library\, 1112 Ligonier Street\, Latrobe\, PA\, 15650\, United States
CATEGORIES:Adults
END:VEVENT
BEGIN:VEVENT
DTSTART;TZID=America/New_York:20261119T180000
DTEND;TZID=America/New_York:20261119T193000
DTSTAMP:20260420T180147
CREATED:20260124T113827Z
LAST-MODIFIED:20260124T113827Z
UID:15889-1795111200-1795116600@www.adamslib.org
SUMMARY:Mystery Book Club
DESCRIPTION:Join this outside group every fourth Thursday of each month from 6:00PM to 7:30PM for discussion on thrillers\, mysteries\, whodunits\, and more! \nStop by the circulation desk or call 724-539-1972 for more information!
URL:https://www.adamslib.org/event/mystery-book-club-32/
LOCATION:Adams Memorial Library\, 1112 Ligonier Street\, Latrobe\, PA\, 15650\, United States
CATEGORIES:Adults
END:VEVENT
END:VCALENDAR