BEGIN:VCALENDAR
VERSION:2.0
PRODID:-//Adams Memorial Library - ECPv6.15.20//NONSGML v1.0//EN
CALSCALE:GREGORIAN
METHOD:PUBLISH
X-WR-CALNAME:Adams Memorial Library
X-ORIGINAL-URL:https://www.adamslib.org
X-WR-CALDESC:Events for Adams Memorial Library
REFRESH-INTERVAL;VALUE=DURATION:PT1H
X-Robots-Tag:noindex
X-PUBLISHED-TTL:PT1H
BEGIN:VTIMEZONE
TZID:America/New_York
BEGIN:DAYLIGHT
TZOFFSETFROM:-0500
TZOFFSETTO:-0400
TZNAME:EDT
DTSTART:20240310T070000
END:DAYLIGHT
BEGIN:STANDARD
TZOFFSETFROM:-0400
TZOFFSETTO:-0500
TZNAME:EST
DTSTART:20241103T060000
END:STANDARD
BEGIN:DAYLIGHT
TZOFFSETFROM:-0500
TZOFFSETTO:-0400
TZNAME:EDT
DTSTART:20250309T070000
END:DAYLIGHT
BEGIN:STANDARD
TZOFFSETFROM:-0400
TZOFFSETTO:-0500
TZNAME:EST
DTSTART:20251102T060000
END:STANDARD
BEGIN:DAYLIGHT
TZOFFSETFROM:-0500
TZOFFSETTO:-0400
TZNAME:EDT
DTSTART:20260308T070000
END:DAYLIGHT
BEGIN:STANDARD
TZOFFSETFROM:-0400
TZOFFSETTO:-0500
TZNAME:EST
DTSTART:20261101T060000
END:STANDARD
END:VTIMEZONE
BEGIN:VEVENT
DTSTART;TZID=America/New_York:20250113T180000
DTEND;TZID=America/New_York:20250113T193000
DTSTAMP:20260419T155428
CREATED:20241229T164325Z
LAST-MODIFIED:20241229T164325Z
UID:13252-1736791200-1736796600@www.adamslib.org
SUMMARY:Movie Monday: The Adventures of Wallace & Gromit
DESCRIPTION:To prepare for Wallace & Gromit’s newest upcoming adventure Wallace & Gromit: Vengeance Most Fowl we’ll be watching the first three Wallace & Gromit movies; A Grand Day Out\, The Wrong Trousers\, and A Close Shave. \nThis event is FREE but REGISTRATION IS REQUIRED BEFORE THE PREMIERE DATE! \nTo register please stop by the Upstairs Circulation Desk\, call 724-539-1972\, or click HERE to register online.
URL:https://www.adamslib.org/event/movie-monday-the-adventures-of-wallace-gromit/
LOCATION:Adams Memorial Library\, 1112 Ligonier Street\, Latrobe\, PA\, 15650\, United States
CATEGORIES:All Ages
END:VEVENT
END:VCALENDAR