BEGIN:VCALENDAR
VERSION:2.0
PRODID:-//Adams Memorial Library - ECPv6.15.20//NONSGML v1.0//EN
CALSCALE:GREGORIAN
METHOD:PUBLISH
X-WR-CALNAME:Adams Memorial Library
X-ORIGINAL-URL:https://www.adamslib.org
X-WR-CALDESC:Events for Adams Memorial Library
REFRESH-INTERVAL;VALUE=DURATION:PT1H
X-Robots-Tag:noindex
X-PUBLISHED-TTL:PT1H
BEGIN:VTIMEZONE
TZID:America/New_York
BEGIN:DAYLIGHT
TZOFFSETFROM:-0500
TZOFFSETTO:-0400
TZNAME:EDT
DTSTART:20240310T070000
END:DAYLIGHT
BEGIN:STANDARD
TZOFFSETFROM:-0400
TZOFFSETTO:-0500
TZNAME:EST
DTSTART:20241103T060000
END:STANDARD
BEGIN:DAYLIGHT
TZOFFSETFROM:-0500
TZOFFSETTO:-0400
TZNAME:EDT
DTSTART:20250309T070000
END:DAYLIGHT
BEGIN:STANDARD
TZOFFSETFROM:-0400
TZOFFSETTO:-0500
TZNAME:EST
DTSTART:20251102T060000
END:STANDARD
BEGIN:DAYLIGHT
TZOFFSETFROM:-0500
TZOFFSETTO:-0400
TZNAME:EDT
DTSTART:20260308T070000
END:DAYLIGHT
BEGIN:STANDARD
TZOFFSETFROM:-0400
TZOFFSETTO:-0500
TZNAME:EST
DTSTART:20261101T060000
END:STANDARD
END:VTIMEZONE
BEGIN:VEVENT
DTSTART;VALUE=DATE:20250602
DTEND;VALUE=DATE:20250803
DTSTAMP:20260419T201649
CREATED:20250523T093807Z
LAST-MODIFIED:20250601T042735Z
UID:14344-1748822400-1754179199@www.adamslib.org
SUMMARY:Palmer Summer Reading Program
DESCRIPTION:Summer Reading is here!  There’s fun and prizes to be had\, from the tall to the small\, to the young and the old!  There’s no age limit; there’s not even a speed limit!  We’re going to have all sorts of fun!  (I heard there’s live animals!  And crafts for all ages!) \nFrom Monday\, June 2 through Saturday\, August 2 we will be offering exciting programs\, awesome activities\, and chances for cool reading prizes for all ages! \nWe just want you to read this summer!  After all\, you were going to read anyways\, right?  So why not get rewarded for it! \nFrom Monday\, June 2 through Saturday\, August 2\, any reading you do can count towards getting raffle tickets! \nFor every hour you read\, you get a raffle ticket.  Register and track your hours using Beanstack.  You then can assign that raffle ticket to the prize of your choice!  Not big into reading?  That’s okay (we’re not judging–honest!) because we have all sorts of activities that you can do to earn tickets! \nAll tickets must be assigned by Saturday\, August 2 at 11:59PM or they are forfeit!  Prizes will be awarded on Monday\, August 4 after 10AM and must be picked up by September 1. \nStop by Adams Memorial Library or Caldwell Memorial Library starting Monday\, June 2 to participate in summer reading! \nFrom Monday\, June 2 through Saturday\, August 2 we will be offering exciting programs\, awesome activities\, and chances for cool reading prizes for all ages! \nFor more information on the Adult Summer Reading Program (ages 13+)\, click HERE! \nFor more information on the Palmer Summer Reading Program (birth to 18)\, click HERE! \n 
URL:https://www.adamslib.org/event/summer-reading-program/
CATEGORIES:All Ages
END:VEVENT
BEGIN:VEVENT
DTSTART;TZID=America/New_York:20250607T100000
DTEND;TZID=America/New_York:20250607T150000
DTSTAMP:20260419T201649
CREATED:20250523T063553Z
LAST-MODIFIED:20250523T063553Z
UID:14160-1749290400-1749308400@www.adamslib.org
SUMMARY:Mister Rogers Family Days
DESCRIPTION:We’re going to be having so much fun here at the library! \nFrom 10AM to 3PM we’ll have fun activities while you beat the heat! \nNo registration is required!
URL:https://www.adamslib.org/event/mister-rogers-family-days-2/
LOCATION:Adams Memorial Library\, 1112 Ligonier Street\, Latrobe\, PA\, 15650\, United States
CATEGORIES:All Ages
END:VEVENT
BEGIN:VEVENT
DTSTART;TZID=America/New_York:20250607T110000
DTEND;TZID=America/New_York:20250607T120000
DTSTAMP:20260419T201649
CREATED:20250523T063726Z
LAST-MODIFIED:20250523T063726Z
UID:14163-1749294000-1749297600@www.adamslib.org
SUMMARY:Mister Rogers Family Days Magic Show
DESCRIPTION:Funny man magician Steve Haberman will be entertaining the young and old with wondrous feats of magic! \nHe’ll be outside in front of the library at 11AM and 1PM\, so there’s no reason to miss the show! \nTo register\, go to misterrogersfamilyday.org
URL:https://www.adamslib.org/event/mister-rogers-family-days-magic-show-3/
LOCATION:Adams Memorial Library\, 1112 Ligonier Street\, Latrobe\, PA\, 15650\, United States
CATEGORIES:All Ages
END:VEVENT
BEGIN:VEVENT
DTSTART;TZID=America/New_York:20250607T130000
DTEND;TZID=America/New_York:20250607T140000
DTSTAMP:20260419T201649
CREATED:20250523T063801Z
LAST-MODIFIED:20250523T063801Z
UID:14166-1749301200-1749304800@www.adamslib.org
SUMMARY:Mister Rogers Family Days Magic Show
DESCRIPTION:Funny man magician Steve Haberman will be entertaining the young and old with wondrous feats of magic! \nHe’ll be outside in front of the library at 11AM and 1PM\, so there’s no reason to miss the show! \nTo register\, go to misterrogersfamilyday.org
URL:https://www.adamslib.org/event/mister-rogers-family-days-magic-show-4/
LOCATION:Adams Memorial Library\, 1112 Ligonier Street\, Latrobe\, PA\, 15650\, United States
CATEGORIES:All Ages
END:VEVENT
BEGIN:VEVENT
DTSTART;TZID=America/New_York:20250611T180000
DTEND;TZID=America/New_York:20250611T193000
DTSTAMP:20260419T201649
CREATED:20250523T081152Z
LAST-MODIFIED:20250523T081152Z
UID:14275-1749664800-1749670200@www.adamslib.org
SUMMARY:Puzzle Competition
DESCRIPTION:Calling all puzzlers!   Assemble your team of up to 4 and compete with others to determine who the best puzzle solvers are.\n\nThere will also be small prizes and pizza for everyone who participates.  Hurry as registration is limited to a max of 5 teams.\n\n\n\nTo register\, please stop by the Upstairs Circulation Desk or call 724-539-1972.
URL:https://www.adamslib.org/event/puzzle-competition-3/
LOCATION:Adams Memorial Library\, 1112 Ligonier Street\, Latrobe\, PA\, 15650\, United States
CATEGORIES:All Ages
END:VEVENT
BEGIN:VEVENT
DTSTART;TZID=America/New_York:20250616T150000
DTEND;TZID=America/New_York:20250616T190000
DTSTAMP:20260419T201649
CREATED:20250523T082539Z
LAST-MODIFIED:20250523T082539Z
UID:14290-1750086000-1750100400@www.adamslib.org
SUMMARY:Used Book Sale and Basket Lottery at Caldwell Memorial Library
DESCRIPTION:Come see the variety of fiction\, cookbooks\, and biographies for all ages available to purchase at reasonable prices! \nThere will be a preview sale of our used books on Monday\, June 16 from 3:00PM – 7:00PM\, with a $5 entrance fee. \nRegular sales will be June 17 & 18 from 3:00PM – 7:00PM with a clearance sale on Thursday\, June 19 from 3:00PM – 7:00PM where all books will be $5 a bag! \nFor more information or to donate books\, please call Caldwell Memorial Library at 724-694-1401 ext. 3110!
URL:https://www.adamslib.org/event/used-book-sale-and-basket-lottery-at-caldwell-memorial-library/
LOCATION:Caldwell Memorial Library\, Derry Area High School 988 N. Chestnut St Ext\, Derry\, PA\, 15627\, United States
CATEGORIES:All Ages
END:VEVENT
BEGIN:VEVENT
DTSTART;TZID=America/New_York:20250617T150000
DTEND;TZID=America/New_York:20250617T190000
DTSTAMP:20260419T201649
CREATED:20250523T082640Z
LAST-MODIFIED:20250523T082718Z
UID:14293-1750172400-1750186800@www.adamslib.org
SUMMARY:Used Book Sale and Basket Lottery at Caldwell Memorial Library
DESCRIPTION:Come see the variety of fiction\, cookbooks\, and biographies for all ages available to purchase at reasonable prices! \nThere will be a preview sale of our used books on Monday\, June 16 from 3:00PM – 7:00PM\, with a $5 entrance fee. \nRegular sales will be June 17 & 18 from 3:00PM – 7:00PM with a clearance sale on Thursday\, June 19 from 3:00PM – 7:00PM where all books will be $5 a bag! \nFor more information or to donate books\, please call Caldwell Memorial Library at 724-694-1401 ext. 3110!
URL:https://www.adamslib.org/event/used-book-sale-and-basket-lottery-at-caldwell-memorial-library-2/
LOCATION:Caldwell Memorial Library\, Derry Area High School 988 N. Chestnut St Ext\, Derry\, PA\, 15627\, United States
CATEGORIES:All Ages
END:VEVENT
BEGIN:VEVENT
DTSTART;TZID=America/New_York:20250618T150000
DTEND;TZID=America/New_York:20250618T190000
DTSTAMP:20260419T201649
CREATED:20250523T082759Z
LAST-MODIFIED:20250523T082759Z
UID:14295-1750258800-1750273200@www.adamslib.org
SUMMARY:Used Book Sale and Basket Lottery at Caldwell Memorial Library
DESCRIPTION:Come see the variety of fiction\, cookbooks\, and biographies for all ages available to purchase at reasonable prices! \nThere will be a preview sale of our used books on Monday\, June 16 from 3:00PM – 7:00PM\, with a $5 entrance fee. \nRegular sales will be June 17 & 18 from 3:00PM – 7:00PM with a clearance sale on Thursday\, June 19 from 3:00PM – 7:00PM where all books will be $5 a bag! \nFor more information or to donate books\, please call Caldwell Memorial Library at 724-694-1401 ext. 3110!
URL:https://www.adamslib.org/event/used-book-sale-and-basket-lottery-at-caldwell-memorial-library-3/
LOCATION:Caldwell Memorial Library\, Derry Area High School 988 N. Chestnut St Ext\, Derry\, PA\, 15627\, United States
CATEGORIES:All Ages
END:VEVENT
BEGIN:VEVENT
DTSTART;TZID=America/New_York:20250619T150000
DTEND;TZID=America/New_York:20250619T190000
DTSTAMP:20260419T201649
CREATED:20250523T082919Z
LAST-MODIFIED:20250523T082919Z
UID:14297-1750345200-1750359600@www.adamslib.org
SUMMARY:Used Book Sale and Basket Lottery at Caldwell Memorial Library
DESCRIPTION:Come see the variety of fiction\, cookbooks\, and biographies for all ages available to purchase at reasonable prices! \nThere will be a preview sale of our used books on Monday\, June 16 from 3:00PM – 7:00PM\, with a $5 entrance fee. \nRegular sales will be June 17 & 18 from 3:00PM – 7:00PM with a clearance sale on Thursday\, June 19 from 3:00PM – 7:00PM where all books will be $5 a bag! \nFor more information or to donate books\, please call Caldwell Memorial Library at 724-694-1401 ext. 3110!
URL:https://www.adamslib.org/event/used-book-sale-and-basket-lottery-at-caldwell-memorial-library-4/
LOCATION:Caldwell Memorial Library\, Derry Area High School 988 N. Chestnut St Ext\, Derry\, PA\, 15627\, United States
CATEGORIES:All Ages
END:VEVENT
BEGIN:VEVENT
DTSTART;TZID=America/New_York:20250624T160000
DTEND;TZID=America/New_York:20250624T170000
DTSTAMP:20260419T201649
CREATED:20250523T072650Z
LAST-MODIFIED:20250523T072650Z
UID:14242-1750780800-1750784400@www.adamslib.org
SUMMARY:Living the Otter Life: A Virtual Talk with Katherine Applegate
DESCRIPTION:Join us as award-winning author and summer reading champion Katherine Applegate talks to viewers about her enthusiastically heartwarming novel in verse\, Odder. \nThis virtual event is geared towards grades 3-6. \nRegister at https://libraryc.org/adamslib
URL:https://www.adamslib.org/event/living-the-otter-life-a-virtual-talk-with-katherine-applegate/
CATEGORIES:All Ages
END:VEVENT
END:VCALENDAR