BEGIN:VCALENDAR
VERSION:2.0
PRODID:-//Adams Memorial Library - ECPv6.15.20//NONSGML v1.0//EN
CALSCALE:GREGORIAN
METHOD:PUBLISH
X-ORIGINAL-URL:https://www.adamslib.org
X-WR-CALDESC:Events for Adams Memorial Library
REFRESH-INTERVAL;VALUE=DURATION:PT1H
X-Robots-Tag:noindex
X-PUBLISHED-TTL:PT1H
BEGIN:VTIMEZONE
TZID:America/New_York
BEGIN:DAYLIGHT
TZOFFSETFROM:-0500
TZOFFSETTO:-0400
TZNAME:EDT
DTSTART:20240310T070000
END:DAYLIGHT
BEGIN:STANDARD
TZOFFSETFROM:-0400
TZOFFSETTO:-0500
TZNAME:EST
DTSTART:20241103T060000
END:STANDARD
BEGIN:DAYLIGHT
TZOFFSETFROM:-0500
TZOFFSETTO:-0400
TZNAME:EDT
DTSTART:20250309T070000
END:DAYLIGHT
BEGIN:STANDARD
TZOFFSETFROM:-0400
TZOFFSETTO:-0500
TZNAME:EST
DTSTART:20251102T060000
END:STANDARD
BEGIN:DAYLIGHT
TZOFFSETFROM:-0500
TZOFFSETTO:-0400
TZNAME:EDT
DTSTART:20260308T070000
END:DAYLIGHT
BEGIN:STANDARD
TZOFFSETFROM:-0400
TZOFFSETTO:-0500
TZNAME:EST
DTSTART:20261101T060000
END:STANDARD
END:VTIMEZONE
BEGIN:VEVENT
DTSTART;TZID=America/New_York:20250210T180000
DTEND;TZID=America/New_York:20250210T193000
DTSTAMP:20260419T222649
CREATED:20250127T095907Z
LAST-MODIFIED:20250127T095907Z
UID:13544-1739210400-1739215800@www.adamslib.org
SUMMARY:Movie Monday: Babe
DESCRIPTION:Synopsis: Gentle farmer Arthur Hoggett wins a piglet Babe at a county fair. Narrowly escaping his fate as Christmas dinner\, Babe bonds with motherly border collie Fly and discovers that he too can herd sheep. But will the other animals accept him?\n\nPopcorn will be provided and you’re welcome to bring your own non-alcoholic drink.\n\nThis event is FREE but REGISTRATION IS REQUIRED BEFORE THE PREMIERE DATE!\n\nTo register\, stop by the Upstairs Circulation Desk\, call 724-539-1972\, or click HERE to register online.
URL:https://www.adamslib.org/event/movie-monday-babe/
LOCATION:Adams Memorial Library\, 1112 Ligonier Street\, Latrobe\, PA\, 15650\, United States
CATEGORIES:All Ages
END:VEVENT
END:VCALENDAR