BEGIN:VCALENDAR
VERSION:2.0
PRODID:-//Adams Memorial Library - ECPv6.15.20//NONSGML v1.0//EN
CALSCALE:GREGORIAN
METHOD:PUBLISH
X-WR-CALNAME:Adams Memorial Library
X-ORIGINAL-URL:https://www.adamslib.org
X-WR-CALDESC:Events for Adams Memorial Library
REFRESH-INTERVAL;VALUE=DURATION:PT1H
X-Robots-Tag:noindex
X-PUBLISHED-TTL:PT1H
BEGIN:VTIMEZONE
TZID:America/New_York
BEGIN:DAYLIGHT
TZOFFSETFROM:-0500
TZOFFSETTO:-0400
TZNAME:EDT
DTSTART:20250309T070000
END:DAYLIGHT
BEGIN:STANDARD
TZOFFSETFROM:-0400
TZOFFSETTO:-0500
TZNAME:EST
DTSTART:20251102T060000
END:STANDARD
BEGIN:DAYLIGHT
TZOFFSETFROM:-0500
TZOFFSETTO:-0400
TZNAME:EDT
DTSTART:20260308T070000
END:DAYLIGHT
BEGIN:STANDARD
TZOFFSETFROM:-0400
TZOFFSETTO:-0500
TZNAME:EST
DTSTART:20261101T060000
END:STANDARD
BEGIN:DAYLIGHT
TZOFFSETFROM:-0500
TZOFFSETTO:-0400
TZNAME:EDT
DTSTART:20270314T070000
END:DAYLIGHT
BEGIN:STANDARD
TZOFFSETFROM:-0400
TZOFFSETTO:-0500
TZNAME:EST
DTSTART:20271107T060000
END:STANDARD
END:VTIMEZONE
BEGIN:VEVENT
DTSTART;TZID=America/New_York:20260505T103000
DTEND;TZID=America/New_York:20260505T110000
DTSTAMP:20260421T015210
CREATED:20260420T081855Z
LAST-MODIFIED:20260420T081855Z
UID:16371-1777977000-1777978800@www.adamslib.org
SUMMARY:Wee Read
DESCRIPTION:Designed for our youngest friends from birth to 2½ years old\, and their caregivers. Wee Read combines songs\, rhymes\, and socialization for a fun and engaging early literacy experience. \nThe same Wee Read session is repeated Tuesday through Thursday each week. \nPlease register by calling the Children’s Room at 724-537-4383 or stopping by the Children’s Room desk. Space may be limited!
URL:https://www.adamslib.org/event/wee-read-263/
LOCATION:Adams Memorial Library\, 1112 Ligonier Street\, Latrobe\, PA\, 15650\, United States
CATEGORIES:Babies & Toddlers
END:VEVENT
BEGIN:VEVENT
DTSTART;TZID=America/New_York:20260506T103000
DTEND;TZID=America/New_York:20260506T110000
DTSTAMP:20260421T015210
CREATED:20260420T081928Z
LAST-MODIFIED:20260420T081928Z
UID:16373-1778063400-1778065200@www.adamslib.org
SUMMARY:Wee Read
DESCRIPTION:Designed for our youngest friends from birth to 2½ years old\, and their caregivers. Wee Read combines songs\, rhymes\, and socialization for a fun and engaging early literacy experience. \nThe same Wee Read session is repeated Tuesday through Thursday each week. \nPlease register by calling the Children’s Room at 724-537-4383 or stopping by the Children’s Room desk. Space may be limited!
URL:https://www.adamslib.org/event/wee-read-264/
LOCATION:Adams Memorial Library\, 1112 Ligonier Street\, Latrobe\, PA\, 15650\, United States
CATEGORIES:Babies & Toddlers
END:VEVENT
BEGIN:VEVENT
DTSTART;TZID=America/New_York:20260507T103000
DTEND;TZID=America/New_York:20260507T110000
DTSTAMP:20260421T015210
CREATED:20260420T081958Z
LAST-MODIFIED:20260420T081958Z
UID:16375-1778149800-1778151600@www.adamslib.org
SUMMARY:Wee Read
DESCRIPTION:Designed for our youngest friends from birth to 2½ years old\, and their caregivers. Wee Read combines songs\, rhymes\, and socialization for a fun and engaging early literacy experience. \nThe same Wee Read session is repeated Tuesday through Thursday each week. \nPlease register by calling the Children’s Room at 724-537-4383 or stopping by the Children’s Room desk. Space may be limited!
URL:https://www.adamslib.org/event/wee-read-265/
LOCATION:Adams Memorial Library\, 1112 Ligonier Street\, Latrobe\, PA\, 15650\, United States
CATEGORIES:Babies & Toddlers
END:VEVENT
BEGIN:VEVENT
DTSTART;TZID=America/New_York:20260511T103000
DTEND;TZID=America/New_York:20260511T110000
DTSTAMP:20260421T015210
CREATED:20260420T082246Z
LAST-MODIFIED:20260420T082246Z
UID:16387-1778495400-1778497200@www.adamslib.org
SUMMARY:Song & Rhyme Time
DESCRIPTION:Join Miss Karen for an at-home song and rhyme session to enjoy any time or anywhere! You can follow along on our website or social media! \nWatch for new videos to sing along! \nTo follow along\, please click HERE!
URL:https://www.adamslib.org/event/song-rhyme-time-46/
CATEGORIES:Babies & Toddlers
END:VEVENT
BEGIN:VEVENT
DTSTART;TZID=America/New_York:20260512T103000
DTEND;TZID=America/New_York:20260512T123000
DTSTAMP:20260421T015210
CREATED:20260420T083354Z
LAST-MODIFIED:20260420T083354Z
UID:16399-1778581800-1778589000@www.adamslib.org
SUMMARY:Play Days
DESCRIPTION:Come and play with friends (or make new ones) at the library! We’ll have our special toys out in the Reed Room from 10:30AM to 12:30PM each day so you play in the Children’s Room and in the Reed Room!\n\nEnjoy an indoor Play Day at the library! To register\, please stop by the Children’s Room or call 724-537-4383!\n\nSpace may be limited! 
URL:https://www.adamslib.org/event/play-days-32/
LOCATION:Adams Memorial Library\, 1112 Ligonier Street\, Latrobe\, PA\, 15650\, United States
CATEGORIES:Babies & Toddlers,Children
END:VEVENT
BEGIN:VEVENT
DTSTART;TZID=America/New_York:20260513T103000
DTEND;TZID=America/New_York:20260513T123000
DTSTAMP:20260421T015210
CREATED:20260420T083425Z
LAST-MODIFIED:20260420T083425Z
UID:16402-1778668200-1778675400@www.adamslib.org
SUMMARY:Play Days
DESCRIPTION:Come and play with friends (or make new ones) at the library! We’ll have our special toys out in the Reed Room from 10:30AM to 12:30PM each day so you play in the Children’s Room and in the Reed Room!\n\nEnjoy an indoor Play Day at the library! To register\, please stop by the Children’s Room or call 724-537-4383!\n\nSpace may be limited! 
URL:https://www.adamslib.org/event/play-days-33/
LOCATION:Adams Memorial Library\, 1112 Ligonier Street\, Latrobe\, PA\, 15650\, United States
CATEGORIES:Babies & Toddlers,Children
END:VEVENT
BEGIN:VEVENT
DTSTART;TZID=America/New_York:20260514T103000
DTEND;TZID=America/New_York:20260514T123000
DTSTAMP:20260421T015210
CREATED:20260420T083454Z
LAST-MODIFIED:20260420T083454Z
UID:16404-1778754600-1778761800@www.adamslib.org
SUMMARY:Play Days
DESCRIPTION:Come and play with friends (or make new ones) at the library! We’ll have our special toys out in the Reed Room from 10:30AM to 12:30PM each day so you play in the Children’s Room and in the Reed Room!\n\nEnjoy an indoor Play Day at the library! To register\, please stop by the Children’s Room or call 724-537-4383!\n\nSpace may be limited! 
URL:https://www.adamslib.org/event/play-days-34/
LOCATION:Adams Memorial Library\, 1112 Ligonier Street\, Latrobe\, PA\, 15650\, United States
CATEGORIES:Babies & Toddlers,Children
END:VEVENT
END:VCALENDAR