BEGIN:VCALENDAR
VERSION:2.0
PRODID:-//Adams Memorial Library - ECPv6.15.20//NONSGML v1.0//EN
CALSCALE:GREGORIAN
METHOD:PUBLISH
X-ORIGINAL-URL:https://www.adamslib.org
X-WR-CALDESC:Events for Adams Memorial Library
REFRESH-INTERVAL;VALUE=DURATION:PT1H
X-Robots-Tag:noindex
X-PUBLISHED-TTL:PT1H
BEGIN:VTIMEZONE
TZID:America/New_York
BEGIN:DAYLIGHT
TZOFFSETFROM:-0500
TZOFFSETTO:-0400
TZNAME:EDT
DTSTART:20250309T070000
END:DAYLIGHT
BEGIN:STANDARD
TZOFFSETFROM:-0400
TZOFFSETTO:-0500
TZNAME:EST
DTSTART:20251102T060000
END:STANDARD
BEGIN:DAYLIGHT
TZOFFSETFROM:-0500
TZOFFSETTO:-0400
TZNAME:EDT
DTSTART:20260308T070000
END:DAYLIGHT
BEGIN:STANDARD
TZOFFSETFROM:-0400
TZOFFSETTO:-0500
TZNAME:EST
DTSTART:20261101T060000
END:STANDARD
BEGIN:DAYLIGHT
TZOFFSETFROM:-0500
TZOFFSETTO:-0400
TZNAME:EDT
DTSTART:20270314T070000
END:DAYLIGHT
BEGIN:STANDARD
TZOFFSETFROM:-0400
TZOFFSETTO:-0500
TZNAME:EST
DTSTART:20271107T060000
END:STANDARD
END:VTIMEZONE
BEGIN:VEVENT
DTSTART;TZID=America/New_York:20260422T130000
DTEND;TZID=America/New_York:20260422T133000
DTSTAMP:20260420T173131
CREATED:20260324T021551Z
LAST-MODIFIED:20260324T021551Z
UID:16302-1776862800-1776864600@www.adamslib.org
SUMMARY:Preschool Storytime
DESCRIPTION:Designed for our friends from 2½ to 5 years old who enjoy listening to stories\, and their caregivers.  This storytime features books on a different theme each week\, plus songs and rhymes. \n The same Preschool Storytime session is repeated Wednesday and Thursday each week. \nPlease register by calling the Children’s Room at 724-537-4383 or stopping by the Children’s Room desk. Space may be limited! \nIf the Greater Latrobe School District is closed or delayed for weather-related reasons\, there will be no Wee Read or Preschool Storytime!
URL:https://www.adamslib.org/event/preschool-storytime-58/
LOCATION:Adams Memorial Library\, 1112 Ligonier Street\, Latrobe\, PA\, 15650\, United States
CATEGORIES:Children
END:VEVENT
BEGIN:VEVENT
DTSTART;TZID=America/New_York:20260423T113000
DTEND;TZID=America/New_York:20260423T120000
DTSTAMP:20260420T173131
CREATED:20260324T021622Z
LAST-MODIFIED:20260324T021622Z
UID:16304-1776943800-1776945600@www.adamslib.org
SUMMARY:Preschool Storytime
DESCRIPTION:Designed for our friends from 2½ to 5 years old who enjoy listening to stories\, and their caregivers.  This storytime features books on a different theme each week\, plus songs and rhymes. \n The same Preschool Storytime session is repeated Wednesday and Thursday each week. \nPlease register by calling the Children’s Room at 724-537-4383 or stopping by the Children’s Room desk. Space may be limited! \nIf the Greater Latrobe School District is closed or delayed for weather-related reasons\, there will be no Wee Read or Preschool Storytime!
URL:https://www.adamslib.org/event/preschool-storytime-59/
LOCATION:Adams Memorial Library\, 1112 Ligonier Street\, Latrobe\, PA\, 15650\, United States
CATEGORIES:Children
END:VEVENT
BEGIN:VEVENT
DTSTART;TZID=America/New_York:20260423T130000
DTEND;TZID=America/New_York:20260423T133000
DTSTAMP:20260420T173131
CREATED:20260324T021659Z
LAST-MODIFIED:20260324T021659Z
UID:16306-1776949200-1776951000@www.adamslib.org
SUMMARY:Preschool Storytime
DESCRIPTION:Designed for our friends from 2½ to 5 years old who enjoy listening to stories\, and their caregivers.  This storytime features books on a different theme each week\, plus songs and rhymes. \n The same Preschool Storytime session is repeated Wednesday and Thursday each week. \nPlease register by calling the Children’s Room at 724-537-4383 or stopping by the Children’s Room desk. Space may be limited! \nIf the Greater Latrobe School District is closed or delayed for weather-related reasons\, there will be no Wee Read or Preschool Storytime!
URL:https://www.adamslib.org/event/preschool-storytime-60/
LOCATION:Adams Memorial Library\, 1112 Ligonier Street\, Latrobe\, PA\, 15650\, United States
CATEGORIES:Children
END:VEVENT
BEGIN:VEVENT
DTSTART;TZID=America/New_York:20260429T130000
DTEND;TZID=America/New_York:20260429T133000
DTSTAMP:20260420T173131
CREATED:20260324T021731Z
LAST-MODIFIED:20260324T021731Z
UID:16308-1777467600-1777469400@www.adamslib.org
SUMMARY:Preschool Storytime
DESCRIPTION:Designed for our friends from 2½ to 5 years old who enjoy listening to stories\, and their caregivers.  This storytime features books on a different theme each week\, plus songs and rhymes. \n The same Preschool Storytime session is repeated Wednesday and Thursday each week. \nPlease register by calling the Children’s Room at 724-537-4383 or stopping by the Children’s Room desk. Space may be limited! \nIf the Greater Latrobe School District is closed or delayed for weather-related reasons\, there will be no Wee Read or Preschool Storytime!
URL:https://www.adamslib.org/event/preschool-storytime-61/
LOCATION:Adams Memorial Library\, 1112 Ligonier Street\, Latrobe\, PA\, 15650\, United States
CATEGORIES:Children
END:VEVENT
BEGIN:VEVENT
DTSTART;TZID=America/New_York:20260430T113000
DTEND;TZID=America/New_York:20260430T120000
DTSTAMP:20260420T173131
CREATED:20260324T021756Z
LAST-MODIFIED:20260324T021756Z
UID:16310-1777548600-1777550400@www.adamslib.org
SUMMARY:Preschool Storytime
DESCRIPTION:Designed for our friends from 2½ to 5 years old who enjoy listening to stories\, and their caregivers.  This storytime features books on a different theme each week\, plus songs and rhymes. \n The same Preschool Storytime session is repeated Wednesday and Thursday each week. \nPlease register by calling the Children’s Room at 724-537-4383 or stopping by the Children’s Room desk. Space may be limited! \nIf the Greater Latrobe School District is closed or delayed for weather-related reasons\, there will be no Wee Read or Preschool Storytime!
URL:https://www.adamslib.org/event/preschool-storytime-62/
LOCATION:Adams Memorial Library\, 1112 Ligonier Street\, Latrobe\, PA\, 15650\, United States
CATEGORIES:Children
END:VEVENT
BEGIN:VEVENT
DTSTART;TZID=America/New_York:20260430T130000
DTEND;TZID=America/New_York:20260430T133000
DTSTAMP:20260420T173131
CREATED:20260324T021830Z
LAST-MODIFIED:20260324T021830Z
UID:16312-1777554000-1777555800@www.adamslib.org
SUMMARY:Preschool Storytime
DESCRIPTION:Designed for our friends from 2½ to 5 years old who enjoy listening to stories\, and their caregivers.  This storytime features books on a different theme each week\, plus songs and rhymes. \n The same Preschool Storytime session is repeated Wednesday and Thursday each week. \nPlease register by calling the Children’s Room at 724-537-4383 or stopping by the Children’s Room desk. Space may be limited! \nIf the Greater Latrobe School District is closed or delayed for weather-related reasons\, there will be no Wee Read or Preschool Storytime!
URL:https://www.adamslib.org/event/preschool-storytime-63/
LOCATION:Adams Memorial Library\, 1112 Ligonier Street\, Latrobe\, PA\, 15650\, United States
CATEGORIES:Children
END:VEVENT
BEGIN:VEVENT
DTSTART;TZID=America/New_York:20260506T130000
DTEND;TZID=America/New_York:20260506T133000
DTSTAMP:20260420T173131
CREATED:20260420T082036Z
LAST-MODIFIED:20260420T082036Z
UID:16377-1778072400-1778074200@www.adamslib.org
SUMMARY:Preschool Storytime
DESCRIPTION:Designed for our friends from 2½ to 5 years old who enjoy listening to stories\, and their caregivers.  This storytime features books on a different theme each week\, plus songs and rhymes. \n The same Preschool Storytime session is repeated Wednesday and Thursday each week. \nPlease register by calling the Children’s Room at 724-537-4383 or stopping by the Children’s Room desk. Space may be limited!
URL:https://www.adamslib.org/event/preschool-storytime-64/
LOCATION:Adams Memorial Library\, 1112 Ligonier Street\, Latrobe\, PA\, 15650\, United States
CATEGORIES:Children
END:VEVENT
BEGIN:VEVENT
DTSTART;TZID=America/New_York:20260507T113000
DTEND;TZID=America/New_York:20260507T120000
DTSTAMP:20260420T173131
CREATED:20260420T082107Z
LAST-MODIFIED:20260420T082107Z
UID:16379-1778153400-1778155200@www.adamslib.org
SUMMARY:Storytime
DESCRIPTION:Designed for our friends from 2½ to 5 years old who enjoy listening to stories\, and their caregivers.  This storytime features books on a different theme each week\, plus songs and rhymes. \n The same Preschool Storytime session is repeated Wednesday and Thursday each week. \nPlease register by calling the Children’s Room at 724-537-4383 or stopping by the Children’s Room desk. Space may be limited!
URL:https://www.adamslib.org/event/storytime-83/
LOCATION:Adams Memorial Library\, 1112 Ligonier Street\, Latrobe\, PA\, 15650\, United States
CATEGORIES:Children
END:VEVENT
BEGIN:VEVENT
DTSTART;TZID=America/New_York:20260507T130000
DTEND;TZID=America/New_York:20260507T133000
DTSTAMP:20260420T173131
CREATED:20260420T082139Z
LAST-MODIFIED:20260420T082139Z
UID:16381-1778158800-1778160600@www.adamslib.org
SUMMARY:Preschool Storytime
DESCRIPTION:Designed for our friends from 2½ to 5 years old who enjoy listening to stories\, and their caregivers.  This storytime features books on a different theme each week\, plus songs and rhymes. \n The same Preschool Storytime session is repeated Wednesday and Thursday each week. \nPlease register by calling the Children’s Room at 724-537-4383 or stopping by the Children’s Room desk. Space may be limited!
URL:https://www.adamslib.org/event/preschool-storytime-65/
LOCATION:Adams Memorial Library\, 1112 Ligonier Street\, Latrobe\, PA\, 15650\, United States
CATEGORIES:Children
END:VEVENT
BEGIN:VEVENT
DTSTART;TZID=America/New_York:20260511T180000
DTEND;TZID=America/New_York:20260511T183000
DTSTAMP:20260420T173131
CREATED:20260420T083213Z
LAST-MODIFIED:20260420T083213Z
UID:16396-1778522400-1778524200@www.adamslib.org
SUMMARY:Inquire Within PBS Kids: Neighborhood Take Home Kit
DESCRIPTION:Celebrate your neighborhood and its workers! (It’s what Mister Rogers would do!)\n\nThanks to our friends at WQED Education and Clearview Federal Credit Union\, take home kits will be available in the Children’s Room starting Monday\, May 11\, so you can follow along on our website or social media! While supplies last!\n\nClick HERE to follow along!
URL:https://www.adamslib.org/event/inquire-within-pbs-kids-neighborhood-take-home-kit/
LOCATION:PA
CATEGORIES:Children
END:VEVENT
BEGIN:VEVENT
DTSTART;TZID=America/New_York:20260512T103000
DTEND;TZID=America/New_York:20260512T123000
DTSTAMP:20260420T173131
CREATED:20260420T083354Z
LAST-MODIFIED:20260420T083354Z
UID:16399-1778581800-1778589000@www.adamslib.org
SUMMARY:Play Days
DESCRIPTION:Come and play with friends (or make new ones) at the library! We’ll have our special toys out in the Reed Room from 10:30AM to 12:30PM each day so you play in the Children’s Room and in the Reed Room!\n\nEnjoy an indoor Play Day at the library! To register\, please stop by the Children’s Room or call 724-537-4383!\n\nSpace may be limited! 
URL:https://www.adamslib.org/event/play-days-32/
LOCATION:Adams Memorial Library\, 1112 Ligonier Street\, Latrobe\, PA\, 15650\, United States
CATEGORIES:Babies & Toddlers,Children
END:VEVENT
BEGIN:VEVENT
DTSTART;TZID=America/New_York:20260513T103000
DTEND;TZID=America/New_York:20260513T123000
DTSTAMP:20260420T173131
CREATED:20260420T083425Z
LAST-MODIFIED:20260420T083425Z
UID:16402-1778668200-1778675400@www.adamslib.org
SUMMARY:Play Days
DESCRIPTION:Come and play with friends (or make new ones) at the library! We’ll have our special toys out in the Reed Room from 10:30AM to 12:30PM each day so you play in the Children’s Room and in the Reed Room!\n\nEnjoy an indoor Play Day at the library! To register\, please stop by the Children’s Room or call 724-537-4383!\n\nSpace may be limited! 
URL:https://www.adamslib.org/event/play-days-33/
LOCATION:Adams Memorial Library\, 1112 Ligonier Street\, Latrobe\, PA\, 15650\, United States
CATEGORIES:Babies & Toddlers,Children
END:VEVENT
BEGIN:VEVENT
DTSTART;TZID=America/New_York:20260514T103000
DTEND;TZID=America/New_York:20260514T123000
DTSTAMP:20260420T173131
CREATED:20260420T083454Z
LAST-MODIFIED:20260420T083454Z
UID:16404-1778754600-1778761800@www.adamslib.org
SUMMARY:Play Days
DESCRIPTION:Come and play with friends (or make new ones) at the library! We’ll have our special toys out in the Reed Room from 10:30AM to 12:30PM each day so you play in the Children’s Room and in the Reed Room!\n\nEnjoy an indoor Play Day at the library! To register\, please stop by the Children’s Room or call 724-537-4383!\n\nSpace may be limited! 
URL:https://www.adamslib.org/event/play-days-34/
LOCATION:Adams Memorial Library\, 1112 Ligonier Street\, Latrobe\, PA\, 15650\, United States
CATEGORIES:Babies & Toddlers,Children
END:VEVENT
BEGIN:VEVENT
DTSTART;TZID=America/New_York:20260514T180000
DTEND;TZID=America/New_York:20260514T190000
DTSTAMP:20260420T173131
CREATED:20260420T083825Z
LAST-MODIFIED:20260420T083825Z
UID:16409-1778781600-1778785200@www.adamslib.org
SUMMARY:Book & Craft: Flower Bouquet
DESCRIPTION:Make your own bouquet of flowers to celebrate Spring!\n\nThis craft is for children 5 & up\, so younger children will need help.\n\nTo register\, call the Children’s Room at 724-537-4383 or stop by the Children’s Room desk.
URL:https://www.adamslib.org/event/book-craft-flower-bouquet/
LOCATION:Adams Memorial Library\, 1112 Ligonier Street\, Latrobe\, PA\, 15650\, United States
CATEGORIES:Children
END:VEVENT
BEGIN:VEVENT
DTSTART;TZID=America/New_York:20260520T180000
DTEND;TZID=America/New_York:20260520T190000
DTSTAMP:20260420T173131
CREATED:20260420T085739Z
LAST-MODIFIED:20260420T085739Z
UID:16423-1779300000-1779303600@www.adamslib.org
SUMMARY:Kid’s Craft & Storytime: Gnome Spring Craft
DESCRIPTION:Stop by Caldwell Memorial Library for a phe-gnome-enal craft and hear stories featuring everyone’s favorite hat-wearing creature: gnomes!\n\nTo register\, stop by Caldwell Memorial Library or call 724-694-1401 ext. 3110!
URL:https://www.adamslib.org/event/kids-craft-storytime-gnome-spring-craft/
LOCATION:Caldwell Memorial Library\, Derry Area High School 988 N. Chestnut St Ext\, Derry\, PA\, 15627\, United States
CATEGORIES:Children
END:VEVENT
END:VCALENDAR