BEGIN:VCALENDAR
VERSION:2.0
PRODID:-//Adams Memorial Library - ECPv6.15.20//NONSGML v1.0//EN
CALSCALE:GREGORIAN
METHOD:PUBLISH
X-ORIGINAL-URL:https://www.adamslib.org
X-WR-CALDESC:Events for Adams Memorial Library
REFRESH-INTERVAL;VALUE=DURATION:PT1H
X-Robots-Tag:noindex
X-PUBLISHED-TTL:PT1H
BEGIN:VTIMEZONE
TZID:America/New_York
BEGIN:DAYLIGHT
TZOFFSETFROM:-0500
TZOFFSETTO:-0400
TZNAME:EDT
DTSTART:20250309T070000
END:DAYLIGHT
BEGIN:STANDARD
TZOFFSETFROM:-0400
TZOFFSETTO:-0500
TZNAME:EST
DTSTART:20251102T060000
END:STANDARD
BEGIN:DAYLIGHT
TZOFFSETFROM:-0500
TZOFFSETTO:-0400
TZNAME:EDT
DTSTART:20260308T070000
END:DAYLIGHT
BEGIN:STANDARD
TZOFFSETFROM:-0400
TZOFFSETTO:-0500
TZNAME:EST
DTSTART:20261101T060000
END:STANDARD
BEGIN:DAYLIGHT
TZOFFSETFROM:-0500
TZOFFSETTO:-0400
TZNAME:EDT
DTSTART:20270314T070000
END:DAYLIGHT
BEGIN:STANDARD
TZOFFSETFROM:-0400
TZOFFSETTO:-0500
TZNAME:EST
DTSTART:20271107T060000
END:STANDARD
END:VTIMEZONE
BEGIN:VEVENT
DTSTART;VALUE=DATE:20260404
DTEND;VALUE=DATE:20260405
DTSTAMP:20260420T062302
CREATED:20260225T065214Z
LAST-MODIFIED:20260225T065214Z
UID:16146-1775260800-1775347199@www.adamslib.org
SUMMARY:CLOSED for Easter
DESCRIPTION:Adams Memorial Library will be closed on Saturday\, April 4 for the Easter holiday.  We hope you have a safe and ‘egg’cellent holiday!
URL:https://www.adamslib.org/event/closed-for-easter-2/
CATEGORIES:Modified Hours
END:VEVENT
BEGIN:VEVENT
DTSTART;VALUE=DATE:20260523
DTEND;VALUE=DATE:20260524
DTSTAMP:20260420T062302
CREATED:20260420T085917Z
LAST-MODIFIED:20260420T085917Z
UID:16426-1779494400-1779580799@www.adamslib.org
SUMMARY:CLOSED for Memorial Day
DESCRIPTION:We hope you have a safe holiday!
URL:https://www.adamslib.org/event/closed-for-memorial-day-2/
CATEGORIES:Modified Hours
END:VEVENT
BEGIN:VEVENT
DTSTART;VALUE=DATE:20260525
DTEND;VALUE=DATE:20260526
DTSTAMP:20260420T062302
CREATED:20260420T085952Z
LAST-MODIFIED:20260420T085952Z
UID:16429-1779667200-1779753599@www.adamslib.org
SUMMARY:CLOSED for Memorial Day
DESCRIPTION:We hope you have a safe holiday!
URL:https://www.adamslib.org/event/closed-for-memorial-day-3/
CATEGORIES:Modified Hours
END:VEVENT
END:VCALENDAR