BEGIN:VCALENDAR
VERSION:2.0
PRODID:-//Adams Memorial Library - ECPv6.15.20//NONSGML v1.0//EN
CALSCALE:GREGORIAN
METHOD:PUBLISH
X-WR-CALNAME:Adams Memorial Library
X-ORIGINAL-URL:https://www.adamslib.org
X-WR-CALDESC:Events for Adams Memorial Library
REFRESH-INTERVAL;VALUE=DURATION:PT1H
X-Robots-Tag:noindex
X-PUBLISHED-TTL:PT1H
BEGIN:VTIMEZONE
TZID:America/New_York
BEGIN:DAYLIGHT
TZOFFSETFROM:-0500
TZOFFSETTO:-0400
TZNAME:EDT
DTSTART:20240310T070000
END:DAYLIGHT
BEGIN:STANDARD
TZOFFSETFROM:-0400
TZOFFSETTO:-0500
TZNAME:EST
DTSTART:20241103T060000
END:STANDARD
BEGIN:DAYLIGHT
TZOFFSETFROM:-0500
TZOFFSETTO:-0400
TZNAME:EDT
DTSTART:20250309T070000
END:DAYLIGHT
BEGIN:STANDARD
TZOFFSETFROM:-0400
TZOFFSETTO:-0500
TZNAME:EST
DTSTART:20251102T060000
END:STANDARD
BEGIN:DAYLIGHT
TZOFFSETFROM:-0500
TZOFFSETTO:-0400
TZNAME:EDT
DTSTART:20260308T070000
END:DAYLIGHT
BEGIN:STANDARD
TZOFFSETFROM:-0400
TZOFFSETTO:-0500
TZNAME:EST
DTSTART:20261101T060000
END:STANDARD
END:VTIMEZONE
BEGIN:VEVENT
DTSTART;TZID=America/New_York:20250708T180000
DTEND;TZID=America/New_York:20250708T190000
DTSTAMP:20260424T213151
CREATED:20250623T062827Z
LAST-MODIFIED:20250623T062827Z
UID:14720-1751997600-1752001200@www.adamslib.org
SUMMARY:Colorful Tree Canvas Art
DESCRIPTION:Take a ‘dab’ at making a colorful tree on canvas to add a little more color to your decor!  This craft is for ages 13 & up. \nThere is a $5 fee for this craft\, due at sign-up. \nTo register\, please visit Adams Memorial Library or Caldwell Memorial Library before Tuesday\, July 8\, or call Caldwell Memorial Library at 724-694-1401 ext. 3110. \nSpace is limited!
URL:https://www.adamslib.org/event/colorful-tree-canvas-art/
LOCATION:Caldwell Memorial Library\, Derry Area High School 988 N. Chestnut St Ext\, Derry\, PA\, 15627\, United States
CATEGORIES:Teens & Adults
END:VEVENT
BEGIN:VEVENT
DTSTART;TZID=America/New_York:20250710T180000
DTEND;TZID=America/New_York:20250710T193000
DTSTAMP:20260424T213151
CREATED:20250623T065631Z
LAST-MODIFIED:20250623T065631Z
UID:14751-1752170400-1752175800@www.adamslib.org
SUMMARY:Clay Companions: Animal Portrait Relief Tile Workshop
DESCRIPTION:In this creative pottery class\, students will design and sculpt a relief tile featuring a portrait of an animal or their own beloved pet.\n\nUsing hand-building techniques and clay carving tools\, participants will learn how to build depth\, texture\, and personality into their tile through low-relief sculpture.  Whether it’s a loyal dog\, curious cat\, or favorite wild animal\, students will bring their subject to life in clay—capturing expression\, detail\, and form.\n\nThis class is perfect for animal lovers and artists of all levels looking to explore clay as a sculptural storytelling medium.\n\n\nThis program is FREE but registration is required.\n\nTo register\, stop by the Upstairs Circulation Desk\, call 724-539-1972\, or click HERE!
URL:https://www.adamslib.org/event/clay-companions-animal-portrait-relief-tile-workshop/
LOCATION:Adams Memorial Library\, 1112 Ligonier Street\, Latrobe\, PA\, 15650\, United States
CATEGORIES:Teens & Adults
END:VEVENT
BEGIN:VEVENT
DTSTART;TZID=America/New_York:20250717T160000
DTEND;TZID=America/New_York:20250717T170000
DTSTAMP:20260424T213151
CREATED:20250628T063102Z
LAST-MODIFIED:20250628T063102Z
UID:14793-1752768000-1752771600@www.adamslib.org
SUMMARY:Discerning the Truth: A Virtual Talk with Marie Lu
DESCRIPTION:Explore the intricate dystopian world of Legend with Marie Lu as she encourages readers to look beyond the surface and think critically of the world around them. \nThis virtual event is geared towards grades 9-12. \nTo sign up for this FREE virtual event\, please click HERE! \nFor other upcoming (and previous) virtual talks\, please click HERE!
URL:https://www.adamslib.org/event/discerning-the-truth-a-virtual-talk-with-marie-lu/
CATEGORIES:Teens & Adults
END:VEVENT
BEGIN:VEVENT
DTSTART;TZID=America/New_York:20250723T180000
DTEND;TZID=America/New_York:20250723T193000
DTSTAMP:20260424T213151
CREATED:20250628T064114Z
LAST-MODIFIED:20250628T064114Z
UID:14813-1753293600-1753299000@www.adamslib.org
SUMMARY:Stained Illusions
DESCRIPTION:Create a stunning faux stained glass design using colorful markers and tinfoil\, mimicking the vibrant glow of real glass art.\n\nThis fun and easy craft program lets creativity shine through with bold colors and reflective textures.\n\n\nThis program is FREE but registration is required.\n\nTo register\, stop by the Upstairs Circulation Desk\, call 724-539-1972\, or click HERE.
URL:https://www.adamslib.org/event/stained-illusions/
LOCATION:Adams Memorial Library\, 1112 Ligonier Street\, Latrobe\, PA\, 15650\, United States
CATEGORIES:Teens & Adults
END:VEVENT
BEGIN:VEVENT
DTSTART;TZID=America/New_York:20250730T143000
DTEND;TZID=America/New_York:20250730T153000
DTSTAMP:20260424T213151
CREATED:20250628T064626Z
LAST-MODIFIED:20250628T064626Z
UID:14822-1753885800-1753889400@www.adamslib.org
SUMMARY:Book & Craft: Design Your Own Bookmark
DESCRIPTION:Design your own bookmark in this fun craft!\n\nThis craft is for children 7 & up\, so younger children will need help.\n\nThis program requires registration.  To register\, stop by the Children’s Room desk or call 724-537-4383.
URL:https://www.adamslib.org/event/book-craft-design-your-own-bookmark/
LOCATION:Adams Memorial Library\, 1112 Ligonier Street\, Latrobe\, PA\, 15650\, United States
CATEGORIES:Teens & Adults
END:VEVENT
END:VCALENDAR