BEGIN:VCALENDAR
VERSION:2.0
PRODID:-//Adams Memorial Library - ECPv6.15.20//NONSGML v1.0//EN
CALSCALE:GREGORIAN
METHOD:PUBLISH
X-WR-CALNAME:Adams Memorial Library
X-ORIGINAL-URL:https://www.adamslib.org
X-WR-CALDESC:Events for Adams Memorial Library
REFRESH-INTERVAL;VALUE=DURATION:PT1H
X-Robots-Tag:noindex
X-PUBLISHED-TTL:PT1H
BEGIN:VTIMEZONE
TZID:America/New_York
BEGIN:DAYLIGHT
TZOFFSETFROM:-0500
TZOFFSETTO:-0400
TZNAME:EDT
DTSTART:20240310T070000
END:DAYLIGHT
BEGIN:STANDARD
TZOFFSETFROM:-0400
TZOFFSETTO:-0500
TZNAME:EST
DTSTART:20241103T060000
END:STANDARD
BEGIN:DAYLIGHT
TZOFFSETFROM:-0500
TZOFFSETTO:-0400
TZNAME:EDT
DTSTART:20250309T070000
END:DAYLIGHT
BEGIN:STANDARD
TZOFFSETFROM:-0400
TZOFFSETTO:-0500
TZNAME:EST
DTSTART:20251102T060000
END:STANDARD
BEGIN:DAYLIGHT
TZOFFSETFROM:-0500
TZOFFSETTO:-0400
TZNAME:EDT
DTSTART:20260308T070000
END:DAYLIGHT
BEGIN:STANDARD
TZOFFSETFROM:-0400
TZOFFSETTO:-0500
TZNAME:EST
DTSTART:20261101T060000
END:STANDARD
END:VTIMEZONE
BEGIN:VEVENT
DTSTART;TZID=America/New_York:20251027T170000
DTEND;TZID=America/New_York:20251027T193000
DTSTAMP:20260424T092410
CREATED:20250821T094842Z
LAST-MODIFIED:20250821T094842Z
UID:15069-1761584400-1761593400@www.adamslib.org
SUMMARY:Needlework Night
DESCRIPTION:Come join others with a shared interest in needlework on the last Monday of the month!  Share tips\, techniques\, and laughs while working on your own projects!\n\nFor more information\, stop by the circulation desk or call 724-539-1972!
URL:https://www.adamslib.org/event/needlework-night-3/
LOCATION:Adams Memorial Library\, 1112 Ligonier Street\, Latrobe\, PA\, 15650\, United States
CATEGORIES:Teens & Adults
END:VEVENT
END:VCALENDAR