BEGIN:VCALENDAR
VERSION:2.0
PRODID:-//Adams Memorial Library - ECPv6.15.20//NONSGML v1.0//EN
CALSCALE:GREGORIAN
METHOD:PUBLISH
X-WR-CALNAME:Adams Memorial Library
X-ORIGINAL-URL:https://www.adamslib.org
X-WR-CALDESC:Events for Adams Memorial Library
REFRESH-INTERVAL;VALUE=DURATION:PT1H
X-Robots-Tag:noindex
X-PUBLISHED-TTL:PT1H
BEGIN:VTIMEZONE
TZID:America/New_York
BEGIN:DAYLIGHT
TZOFFSETFROM:-0500
TZOFFSETTO:-0400
TZNAME:EDT
DTSTART:20230312T070000
END:DAYLIGHT
BEGIN:STANDARD
TZOFFSETFROM:-0400
TZOFFSETTO:-0500
TZNAME:EST
DTSTART:20231105T060000
END:STANDARD
BEGIN:DAYLIGHT
TZOFFSETFROM:-0500
TZOFFSETTO:-0400
TZNAME:EDT
DTSTART:20240310T070000
END:DAYLIGHT
BEGIN:STANDARD
TZOFFSETFROM:-0400
TZOFFSETTO:-0500
TZNAME:EST
DTSTART:20241103T060000
END:STANDARD
BEGIN:DAYLIGHT
TZOFFSETFROM:-0500
TZOFFSETTO:-0400
TZNAME:EDT
DTSTART:20250309T070000
END:DAYLIGHT
BEGIN:STANDARD
TZOFFSETFROM:-0400
TZOFFSETTO:-0500
TZNAME:EST
DTSTART:20251102T060000
END:STANDARD
END:VTIMEZONE
BEGIN:VEVENT
DTSTART;TZID=America/New_York:20240305T113000
DTEND;TZID=America/New_York:20240305T120000
DTSTAMP:20260420T235442
CREATED:20240219T174955Z
LAST-MODIFIED:20240220T001849Z
UID:11093-1709638200-1709640000@www.adamslib.org
SUMMARY:Storytime
DESCRIPTION:Designed for friends from 2 1/2 to 5 years old who enjoy listening to stories\, and their caregivers. Storytime features books on a different theme each week\, plus songs and rhymes. \nThe same Storytime session is repeated Tuesday through Thursday each week. \nPlease register by calling the Children’s Room at 724-537-4383 or stopping by the Children’s Room desk. Space may be limited! \nIf Greater Latrobe School District is closed or delayed for weather-related reasons\, there will be no Storytime.
URL:https://www.adamslib.org/event/storytime-10/
LOCATION:Adams Memorial Library\, 1112 Ligonier Street\, Latrobe\, PA\, 15650\, United States
CATEGORIES:Children
END:VEVENT
BEGIN:VEVENT
DTSTART;TZID=America/New_York:20240306T113000
DTEND;TZID=America/New_York:20240306T120000
DTSTAMP:20260420T235442
CREATED:20240219T175021Z
LAST-MODIFIED:20240220T001846Z
UID:11095-1709724600-1709726400@www.adamslib.org
SUMMARY:Storytime
DESCRIPTION:Designed for friends from 2 1/2 to 5 years old who enjoy listening to stories\, and their caregivers. Storytime features books on a different theme each week\, plus songs and rhymes. \nThe same Storytime session is repeated Tuesday through Thursday each week. \nPlease register by calling the Children’s Room at 724-537-4383 or stopping by the Children’s Room desk. Space may be limited! \nIf Greater Latrobe School District is closed or delayed for weather-related reasons\, there will be no Storytime.
URL:https://www.adamslib.org/event/storytime-11/
LOCATION:Adams Memorial Library\, 1112 Ligonier Street\, Latrobe\, PA\, 15650\, United States
CATEGORIES:Children
END:VEVENT
BEGIN:VEVENT
DTSTART;TZID=America/New_York:20240307T113000
DTEND;TZID=America/New_York:20240307T120000
DTSTAMP:20260420T235442
CREATED:20240219T175042Z
LAST-MODIFIED:20240220T001842Z
UID:11097-1709811000-1709812800@www.adamslib.org
SUMMARY:Storytime
DESCRIPTION:Designed for friends from 2 1/2 to 5 years old who enjoy listening to stories\, and their caregivers. Storytime features books on a different theme each week\, plus songs and rhymes. \nThe same Storytime session is repeated Tuesday through Thursday each week. \nPlease register by calling the Children’s Room at 724-537-4383 or stopping by the Children’s Room desk. Space may be limited! \nIf Greater Latrobe School District is closed or delayed for weather-related reasons\, there will be no Storytime.
URL:https://www.adamslib.org/event/storytime-12/
LOCATION:Adams Memorial Library\, 1112 Ligonier Street\, Latrobe\, PA\, 15650\, United States
CATEGORIES:Children
END:VEVENT
BEGIN:VEVENT
DTSTART;TZID=America/New_York:20240312T113000
DTEND;TZID=America/New_York:20240312T120000
DTSTAMP:20260420T235442
CREATED:20240219T175125Z
LAST-MODIFIED:20240220T001839Z
UID:11099-1710243000-1710244800@www.adamslib.org
SUMMARY:Storytime
DESCRIPTION:Designed for friends from 2 1/2 to 5 years old who enjoy listening to stories\, and their caregivers. Storytime features books on a different theme each week\, plus songs and rhymes. \nThe same Storytime session is repeated Tuesday through Thursday each week. \nPlease register by calling the Children’s Room at 724-537-4383 or stopping by the Children’s Room desk. Space may be limited! \nIf Greater Latrobe School District is closed or delayed for weather-related reasons\, there will be no Storytime.
URL:https://www.adamslib.org/event/storytime-13/
LOCATION:Adams Memorial Library\, 1112 Ligonier Street\, Latrobe\, PA\, 15650\, United States
CATEGORIES:Children
END:VEVENT
BEGIN:VEVENT
DTSTART;TZID=America/New_York:20240313T113000
DTEND;TZID=America/New_York:20240313T120000
DTSTAMP:20260420T235442
CREATED:20240219T175201Z
LAST-MODIFIED:20240220T001835Z
UID:11101-1710329400-1710331200@www.adamslib.org
SUMMARY:Storytime
DESCRIPTION:Designed for friends from 2 1/2 to 5 years old who enjoy listening to stories\, and their caregivers. Storytime features books on a different theme each week\, plus songs and rhymes. \nThe same Storytime session is repeated Tuesday through Thursday each week. \nPlease register by calling the Children’s Room at 724-537-4383 or stopping by the Children’s Room desk. Space may be limited! \nIf Greater Latrobe School District is closed or delayed for weather-related reasons\, there will be no Storytime.
URL:https://www.adamslib.org/event/storytime-14/
LOCATION:Adams Memorial Library\, 1112 Ligonier Street\, Latrobe\, PA\, 15650\, United States
CATEGORIES:Children
END:VEVENT
BEGIN:VEVENT
DTSTART;TZID=America/New_York:20240314T113000
DTEND;TZID=America/New_York:20240314T120000
DTSTAMP:20260420T235442
CREATED:20240219T175231Z
LAST-MODIFIED:20240220T001832Z
UID:11103-1710415800-1710417600@www.adamslib.org
SUMMARY:Storytime
DESCRIPTION:Designed for friends from 2 1/2 to 5 years old who enjoy listening to stories\, and their caregivers. Storytime features books on a different theme each week\, plus songs and rhymes. \nThe same Storytime session is repeated Tuesday through Thursday each week. \nPlease register by calling the Children’s Room at 724-537-4383 or stopping by the Children’s Room desk. Space may be limited! \nIf Greater Latrobe School District is closed or delayed for weather-related reasons\, there will be no Storytime.
URL:https://www.adamslib.org/event/storytime-15/
LOCATION:Adams Memorial Library\, 1112 Ligonier Street\, Latrobe\, PA\, 15650\, United States
CATEGORIES:Children
END:VEVENT
BEGIN:VEVENT
DTSTART;TZID=America/New_York:20240319T103000
DTEND;TZID=America/New_York:20240319T110000
DTSTAMP:20260420T235442
CREATED:20240219T181142Z
LAST-MODIFIED:20240222T054953Z
UID:11123-1710844200-1710846000@www.adamslib.org
SUMMARY:Daniel Tiger Storytime
DESCRIPTION:Celebrate with us all things Daniel Tiger! \nThis storytime-based activity is designed for our youngest friends (from birth to 2½ years old) and their caregivers. \nTo register\, please stop by the Children’s Room or call 724-537-4383! \nSpace may be limited! \nPlease note: Daniel Tiger will NOT be attending this event!  This is simply a storytime and activity that is Daniel Tiger themed.
URL:https://www.adamslib.org/event/daniel-tiger-storytime/
LOCATION:Adams Memorial Library\, 1112 Ligonier Street\, Latrobe\, PA\, 15650\, United States
CATEGORIES:Babies & Toddlers
END:VEVENT
BEGIN:VEVENT
DTSTART;TZID=America/New_York:20240319T113000
DTEND;TZID=America/New_York:20240319T120000
DTSTAMP:20260420T235442
CREATED:20240219T181412Z
LAST-MODIFIED:20240220T001946Z
UID:11130-1710847800-1710849600@www.adamslib.org
SUMMARY:PBS Kids Storytime
DESCRIPTION:Join us for stories and activities based on your favorite PBS Kids characters! \nThis storytime is designed for friends from 2½ to 5 years old who enjoy listening to stories\, and their caregivers. \nTo register\, please stop by the Children’s Room or call 724-537-4383! \nSpace may be limited!
URL:https://www.adamslib.org/event/pbs-kids-storytime/
LOCATION:Adams Memorial Library\, 1112 Ligonier Street\, Latrobe\, PA\, 15650\, United States
CATEGORIES:Children
END:VEVENT
BEGIN:VEVENT
DTSTART;TZID=America/New_York:20240320T103000
DTEND;TZID=America/New_York:20240320T110000
DTSTAMP:20260420T235442
CREATED:20240219T181211Z
LAST-MODIFIED:20240222T054946Z
UID:11126-1710930600-1710932400@www.adamslib.org
SUMMARY:Daniel Tiger Storytime
DESCRIPTION:Celebrate with us all things Daniel Tiger! \nThis storytime-based activity is designed for our youngest friends (from birth to 2½ years old) and their caregivers. \nTo register\, please stop by the Children’s Room or call 724-537-4383! \nSpace may be limited! \nPlease note: Daniel Tiger will NOT be attending this event!  This is simply a storytime and activity that is Daniel Tiger themed.
URL:https://www.adamslib.org/event/daniel-tiger-storytime-2/
LOCATION:Adams Memorial Library\, 1112 Ligonier Street\, Latrobe\, PA\, 15650\, United States
CATEGORIES:Babies & Toddlers
END:VEVENT
BEGIN:VEVENT
DTSTART;TZID=America/New_York:20240320T113000
DTEND;TZID=America/New_York:20240320T120000
DTSTAMP:20260420T235442
CREATED:20240219T181445Z
LAST-MODIFIED:20240220T001943Z
UID:11133-1710934200-1710936000@www.adamslib.org
SUMMARY:PBS Kids Storytime
DESCRIPTION:Join us for stories and activities based on your favorite PBS Kids characters! \nThis storytime is designed for friends from 2½ to 5 years old who enjoy listening to stories\, and their caregivers. \nTo register\, please stop by the Children’s Room or call 724-537-4383! \nSpace may be limited!
URL:https://www.adamslib.org/event/pbs-kids-storytime-2/
LOCATION:Adams Memorial Library\, 1112 Ligonier Street\, Latrobe\, PA\, 15650\, United States
CATEGORIES:Children
END:VEVENT
BEGIN:VEVENT
DTSTART;TZID=America/New_York:20240320T180000
DTEND;TZID=America/New_York:20240320T190000
DTSTAMP:20260420T235442
CREATED:20240219T181713Z
LAST-MODIFIED:20240220T002039Z
UID:11137-1710957600-1710961200@www.adamslib.org
SUMMARY:Kid's Craft & Storytime at CML
DESCRIPTION:Just in time for the April eclipse\, you can come to Caldwell Memorial Library to make your very own eclipse craft and listen to stories about the moon\, sun\, stars\, and everything in between! \nTo register\, please call Caldwell Memorial Library at 724-694-1401 ext. 3110 or stop in during business hours!
URL:https://www.adamslib.org/event/kids-craft-storytime-at-cml-6/
LOCATION:Caldwell Memorial Library\, Derry Area High School 988 N. Chestnut St Ext\, Derry\, PA\, 15627\, United States
CATEGORIES:Children
END:VEVENT
BEGIN:VEVENT
DTSTART;TZID=America/New_York:20240321T103000
DTEND;TZID=America/New_York:20240321T110000
DTSTAMP:20260420T235442
CREATED:20240219T181234Z
LAST-MODIFIED:20240222T055140Z
UID:11128-1711017000-1711018800@www.adamslib.org
SUMMARY:Daniel Tiger Storytime
DESCRIPTION:Celebrate with us all things Daniel Tiger! \nThis storytime-based activity is designed for our youngest friends (from birth to 2½ years old) and their caregivers. \nTo register\, please stop by the Children’s Room or call 724-537-4383! \nSpace may be limited! \nPlease note: Daniel Tiger will NOT be attending this event!  This is simply a storytime and activity that is Daniel Tiger themed.
URL:https://www.adamslib.org/event/daniel-tiger-storytime-3/
LOCATION:Adams Memorial Library\, 1112 Ligonier Street\, Latrobe\, PA\, 15650\, United States
CATEGORIES:Babies & Toddlers
END:VEVENT
BEGIN:VEVENT
DTSTART;TZID=America/New_York:20240321T113000
DTEND;TZID=America/New_York:20240321T120000
DTSTAMP:20260420T235442
CREATED:20240219T181513Z
LAST-MODIFIED:20240220T001815Z
UID:11135-1711020600-1711022400@www.adamslib.org
SUMMARY:PBS Kids Storytime
DESCRIPTION:Join us for stories and activities based on your favorite PBS Kids characters! \nThis storytime is designed for friends from 2½ to 5 years old who enjoy listening to stories\, and their caregivers. \nTo register\, please stop by the Children’s Room or call 724-537-4383! \nSpace may be limited!
URL:https://www.adamslib.org/event/pbs-kids-storytime-3/
LOCATION:Adams Memorial Library\, 1112 Ligonier Street\, Latrobe\, PA\, 15650\, United States
CATEGORIES:Children
END:VEVENT
BEGIN:VEVENT
DTSTART;TZID=America/New_York:20240326T113000
DTEND;TZID=America/New_York:20240326T120000
DTSTAMP:20260420T235442
CREATED:20240219T175254Z
LAST-MODIFIED:20240220T001829Z
UID:11105-1711452600-1711454400@www.adamslib.org
SUMMARY:Storytime
DESCRIPTION:Designed for friends from 2 1/2 to 5 years old who enjoy listening to stories\, and their caregivers. Storytime features books on a different theme each week\, plus songs and rhymes. \nThe same Storytime session is repeated Tuesday through Thursday each week. \nPlease register by calling the Children’s Room at 724-537-4383 or stopping by the Children’s Room desk. Space may be limited! \nIf Greater Latrobe School District is closed or delayed for weather-related reasons\, there will be no Storytime.
URL:https://www.adamslib.org/event/storytime-16/
LOCATION:Adams Memorial Library\, 1112 Ligonier Street\, Latrobe\, PA\, 15650\, United States
CATEGORIES:Children
END:VEVENT
BEGIN:VEVENT
DTSTART;TZID=America/New_York:20240327T113000
DTEND;TZID=America/New_York:20240327T120000
DTSTAMP:20260420T235442
CREATED:20240219T175318Z
LAST-MODIFIED:20240220T001825Z
UID:11107-1711539000-1711540800@www.adamslib.org
SUMMARY:Storytime
DESCRIPTION:Designed for friends from 2 1/2 to 5 years old who enjoy listening to stories\, and their caregivers. Storytime features books on a different theme each week\, plus songs and rhymes. \nThe same Storytime session is repeated Tuesday through Thursday each week. \nPlease register by calling the Children’s Room at 724-537-4383 or stopping by the Children’s Room desk. Space may be limited! \nIf Greater Latrobe School District is closed or delayed for weather-related reasons\, there will be no Storytime.
URL:https://www.adamslib.org/event/storytime-17/
LOCATION:Adams Memorial Library\, 1112 Ligonier Street\, Latrobe\, PA\, 15650\, United States
CATEGORIES:Children
END:VEVENT
BEGIN:VEVENT
DTSTART;TZID=America/New_York:20240328T113000
DTEND;TZID=America/New_York:20240328T120000
DTSTAMP:20260420T235442
CREATED:20240219T175339Z
LAST-MODIFIED:20240220T001822Z
UID:11109-1711625400-1711627200@www.adamslib.org
SUMMARY:Storytime
DESCRIPTION:Designed for friends from 2 1/2 to 5 years old who enjoy listening to stories\, and their caregivers. Storytime features books on a different theme each week\, plus songs and rhymes. \nThe same Storytime session is repeated Tuesday through Thursday each week. \nPlease register by calling the Children’s Room at 724-537-4383 or stopping by the Children’s Room desk. Space may be limited! \nIf Greater Latrobe School District is closed or delayed for weather-related reasons\, there will be no Storytime.
URL:https://www.adamslib.org/event/storytime-18/
LOCATION:Adams Memorial Library\, 1112 Ligonier Street\, Latrobe\, PA\, 15650\, United States
CATEGORIES:Children
END:VEVENT
END:VCALENDAR