BEGIN:VCALENDAR
VERSION:2.0
PRODID:-//Adams Memorial Library - ECPv6.15.20//NONSGML v1.0//EN
CALSCALE:GREGORIAN
METHOD:PUBLISH
X-ORIGINAL-URL:https://www.adamslib.org
X-WR-CALDESC:Events for Adams Memorial Library
REFRESH-INTERVAL;VALUE=DURATION:PT1H
X-Robots-Tag:noindex
X-PUBLISHED-TTL:PT1H
BEGIN:VTIMEZONE
TZID:America/New_York
BEGIN:DAYLIGHT
TZOFFSETFROM:-0500
TZOFFSETTO:-0400
TZNAME:EDT
DTSTART:20230312T070000
END:DAYLIGHT
BEGIN:STANDARD
TZOFFSETFROM:-0400
TZOFFSETTO:-0500
TZNAME:EST
DTSTART:20231105T060000
END:STANDARD
BEGIN:DAYLIGHT
TZOFFSETFROM:-0500
TZOFFSETTO:-0400
TZNAME:EDT
DTSTART:20240310T070000
END:DAYLIGHT
BEGIN:STANDARD
TZOFFSETFROM:-0400
TZOFFSETTO:-0500
TZNAME:EST
DTSTART:20241103T060000
END:STANDARD
BEGIN:DAYLIGHT
TZOFFSETFROM:-0500
TZOFFSETTO:-0400
TZNAME:EDT
DTSTART:20250309T070000
END:DAYLIGHT
BEGIN:STANDARD
TZOFFSETFROM:-0400
TZOFFSETTO:-0500
TZNAME:EST
DTSTART:20251102T060000
END:STANDARD
END:VTIMEZONE
BEGIN:VEVENT
DTSTART;TZID=America/New_York:20240402T113000
DTEND;TZID=America/New_York:20240402T120000
DTSTAMP:20260420T224239
CREATED:20240219T182442Z
LAST-MODIFIED:20240220T001756Z
UID:11152-1712057400-1712059200@www.adamslib.org
SUMMARY:Storytime
DESCRIPTION:Designed for friends from 2 1/2 to 5 years old who enjoy listening to stories\, and their caregivers. Storytime features books on a different theme each week\, plus songs and rhymes. \nThe same Storytime session is repeated Tuesday through Thursday each week. \nPlease register by calling the Children’s Room at 724-537-4383 or stopping by the Children’s Room desk. Space may be limited! \nIf Greater Latrobe School District is closed or delayed for weather-related reasons\, there will be no Storytime.
URL:https://www.adamslib.org/event/storytime-19/
LOCATION:Adams Memorial Library\, 1112 Ligonier Street\, Latrobe\, PA\, 15650\, United States
CATEGORIES:Children
END:VEVENT
BEGIN:VEVENT
DTSTART;TZID=America/New_York:20240403T113000
DTEND;TZID=America/New_York:20240403T120000
DTSTAMP:20260420T224239
CREATED:20240219T182505Z
LAST-MODIFIED:20240220T001753Z
UID:11154-1712143800-1712145600@www.adamslib.org
SUMMARY:Storytime
DESCRIPTION:Designed for friends from 2 1/2 to 5 years old who enjoy listening to stories\, and their caregivers. Storytime features books on a different theme each week\, plus songs and rhymes. \nThe same Storytime session is repeated Tuesday through Thursday each week. \nPlease register by calling the Children’s Room at 724-537-4383 or stopping by the Children’s Room desk. Space may be limited! \nIf Greater Latrobe School District is closed or delayed for weather-related reasons\, there will be no Storytime.
URL:https://www.adamslib.org/event/storytime-20/
LOCATION:Adams Memorial Library\, 1112 Ligonier Street\, Latrobe\, PA\, 15650\, United States
CATEGORIES:Children
END:VEVENT
BEGIN:VEVENT
DTSTART;TZID=America/New_York:20240404T113000
DTEND;TZID=America/New_York:20240404T120000
DTSTAMP:20260420T224239
CREATED:20240317T054540Z
LAST-MODIFIED:20240317T062907Z
UID:11332-1712230200-1712232000@www.adamslib.org
SUMMARY:Storytime
DESCRIPTION:Designed for friends from 2 1/2 to 5 years old who enjoy listening to stories\, and their caregivers. Storytime features books on a different theme each week\, plus songs and rhymes. \nThe same Storytime session is repeated Tuesday through Thursday each week. \nPlease register by calling the Children’s Room at 724-537-4383 or stopping by the Children’s Room desk. Space may be limited! \nIf Greater Latrobe School District is closed or delayed for weather-related reasons\, there will be no Storytime.
URL:https://www.adamslib.org/event/storytime-30/
LOCATION:Adams Memorial Library\, 1112 Ligonier Street\, Latrobe\, PA\, 15650\, United States
CATEGORIES:Children
END:VEVENT
BEGIN:VEVENT
DTSTART;TZID=America/New_York:20240409T113000
DTEND;TZID=America/New_York:20240409T120000
DTSTAMP:20260420T224239
CREATED:20240317T054601Z
LAST-MODIFIED:20240317T062909Z
UID:11334-1712662200-1712664000@www.adamslib.org
SUMMARY:Storytime
DESCRIPTION:Designed for friends from 2 1/2 to 5 years old who enjoy listening to stories\, and their caregivers. Storytime features books on a different theme each week\, plus songs and rhymes. \nThe same Storytime session is repeated Tuesday through Thursday each week. \nPlease register by calling the Children’s Room at 724-537-4383 or stopping by the Children’s Room desk. Space may be limited! \nIf Greater Latrobe School District is closed or delayed for weather-related reasons\, there will be no Storytime.
URL:https://www.adamslib.org/event/storytime-31/
LOCATION:Adams Memorial Library\, 1112 Ligonier Street\, Latrobe\, PA\, 15650\, United States
CATEGORIES:Children
END:VEVENT
BEGIN:VEVENT
DTSTART;TZID=America/New_York:20240410T113000
DTEND;TZID=America/New_York:20240410T120000
DTSTAMP:20260420T224239
CREATED:20240317T054258Z
LAST-MODIFIED:20240317T062856Z
UID:11318-1712748600-1712750400@www.adamslib.org
SUMMARY:Storytime
DESCRIPTION:Designed for friends from 2 1/2 to 5 years old who enjoy listening to stories\, and their caregivers. Storytime features books on a different theme each week\, plus songs and rhymes. \nThe same Storytime session is repeated Tuesday through Thursday each week. \nPlease register by calling the Children’s Room at 724-537-4383 or stopping by the Children’s Room desk. Space may be limited! \nIf Greater Latrobe School District is closed or delayed for weather-related reasons\, there will be no Storytime.
URL:https://www.adamslib.org/event/storytime-23/
LOCATION:Adams Memorial Library\, 1112 Ligonier Street\, Latrobe\, PA\, 15650\, United States
CATEGORIES:Children
END:VEVENT
BEGIN:VEVENT
DTSTART;TZID=America/New_York:20240411T113000
DTEND;TZID=America/New_York:20240411T120000
DTSTAMP:20260420T224239
CREATED:20240317T054321Z
LAST-MODIFIED:20240317T062859Z
UID:11320-1712835000-1712836800@www.adamslib.org
SUMMARY:Storytime
DESCRIPTION:Designed for friends from 2 1/2 to 5 years old who enjoy listening to stories\, and their caregivers. Storytime features books on a different theme each week\, plus songs and rhymes. \nThe same Storytime session is repeated Tuesday through Thursday each week. \nPlease register by calling the Children’s Room at 724-537-4383 or stopping by the Children’s Room desk. Space may be limited! \nIf Greater Latrobe School District is closed or delayed for weather-related reasons\, there will be no Storytime.
URL:https://www.adamslib.org/event/storytime-24/
LOCATION:Adams Memorial Library\, 1112 Ligonier Street\, Latrobe\, PA\, 15650\, United States
CATEGORIES:Children
END:VEVENT
BEGIN:VEVENT
DTSTART;TZID=America/New_York:20240417T180000
DTEND;TZID=America/New_York:20240417T190000
DTSTAMP:20260420T224239
CREATED:20240317T061215Z
LAST-MODIFIED:20240317T062848Z
UID:11364-1713376800-1713380400@www.adamslib.org
SUMMARY:Kid's Craft & Storytime at CML
DESCRIPTION:  \nLeapin’ lizards! There’s tin lizards loose at Caldwell Memorial Library! Stop on by and make your own lizard friend and listen to some stories too! \nTo register\, please call Caldwell Memorial Library at 724-694-1401 ext. 3110 or stop in during business hours!
URL:https://www.adamslib.org/event/kids-craft-storytime-at-cml-7/
LOCATION:Caldwell Memorial Library\, Derry Area High School 988 N. Chestnut St Ext\, Derry\, PA\, 15627\, United States
CATEGORIES:Children
END:VEVENT
BEGIN:VEVENT
DTSTART;TZID=America/New_York:20240423T113000
DTEND;TZID=America/New_York:20240423T120000
DTSTAMP:20260420T224239
CREATED:20240317T054344Z
LAST-MODIFIED:20240317T062901Z
UID:11322-1713871800-1713873600@www.adamslib.org
SUMMARY:Storytime
DESCRIPTION:Designed for friends from 2 1/2 to 5 years old who enjoy listening to stories\, and their caregivers. Storytime features books on a different theme each week\, plus songs and rhymes. \nThe same Storytime session is repeated Tuesday through Thursday each week. \nPlease register by calling the Children’s Room at 724-537-4383 or stopping by the Children’s Room desk. Space may be limited! \nIf Greater Latrobe School District is closed or delayed for weather-related reasons\, there will be no Storytime.
URL:https://www.adamslib.org/event/storytime-25/
LOCATION:Adams Memorial Library\, 1112 Ligonier Street\, Latrobe\, PA\, 15650\, United States
CATEGORIES:Children
END:VEVENT
BEGIN:VEVENT
DTSTART;TZID=America/New_York:20240424T113000
DTEND;TZID=America/New_York:20240424T120000
DTSTAMP:20260420T224239
CREATED:20240317T054407Z
LAST-MODIFIED:20240317T062921Z
UID:11324-1713958200-1713960000@www.adamslib.org
SUMMARY:Storytime
DESCRIPTION:Designed for friends from 2 1/2 to 5 years old who enjoy listening to stories\, and their caregivers. Storytime features books on a different theme each week\, plus songs and rhymes. \nThe same Storytime session is repeated Tuesday through Thursday each week. \nPlease register by calling the Children’s Room at 724-537-4383 or stopping by the Children’s Room desk. Space may be limited! \nIf Greater Latrobe School District is closed or delayed for weather-related reasons\, there will be no Storytime.
URL:https://www.adamslib.org/event/storytime-26/
LOCATION:Adams Memorial Library\, 1112 Ligonier Street\, Latrobe\, PA\, 15650\, United States
CATEGORIES:Children
END:VEVENT
BEGIN:VEVENT
DTSTART;TZID=America/New_York:20240425T113000
DTEND;TZID=America/New_York:20240425T120000
DTSTAMP:20260420T224239
CREATED:20240317T054427Z
LAST-MODIFIED:20240317T062915Z
UID:11326-1714044600-1714046400@www.adamslib.org
SUMMARY:Storytime
DESCRIPTION:Designed for friends from 2 1/2 to 5 years old who enjoy listening to stories\, and their caregivers. Storytime features books on a different theme each week\, plus songs and rhymes. \nThe same Storytime session is repeated Tuesday through Thursday each week. \nPlease register by calling the Children’s Room at 724-537-4383 or stopping by the Children’s Room desk. Space may be limited! \nIf Greater Latrobe School District is closed or delayed for weather-related reasons\, there will be no Storytime.
URL:https://www.adamslib.org/event/storytime-27/
LOCATION:Adams Memorial Library\, 1112 Ligonier Street\, Latrobe\, PA\, 15650\, United States
CATEGORIES:Children
END:VEVENT
BEGIN:VEVENT
DTSTART;TZID=America/New_York:20240430T113000
DTEND;TZID=America/New_York:20240430T120000
DTSTAMP:20260420T224239
CREATED:20240317T054453Z
LAST-MODIFIED:20240317T062905Z
UID:11328-1714476600-1714478400@www.adamslib.org
SUMMARY:Storytime
DESCRIPTION:Designed for friends from 2 1/2 to 5 years old who enjoy listening to stories\, and their caregivers. Storytime features books on a different theme each week\, plus songs and rhymes. \nThe same Storytime session is repeated Tuesday through Thursday each week. \nPlease register by calling the Children’s Room at 724-537-4383 or stopping by the Children’s Room desk. Space may be limited! \nIf Greater Latrobe School District is closed or delayed for weather-related reasons\, there will be no Storytime.
URL:https://www.adamslib.org/event/storytime-28/
LOCATION:Adams Memorial Library\, 1112 Ligonier Street\, Latrobe\, PA\, 15650\, United States
CATEGORIES:Children
END:VEVENT
END:VCALENDAR