BEGIN:VCALENDAR
VERSION:2.0
PRODID:-//Adams Memorial Library - ECPv6.15.20//NONSGML v1.0//EN
CALSCALE:GREGORIAN
METHOD:PUBLISH
X-ORIGINAL-URL:https://www.adamslib.org
X-WR-CALDESC:Events for Adams Memorial Library
REFRESH-INTERVAL;VALUE=DURATION:PT1H
X-Robots-Tag:noindex
X-PUBLISHED-TTL:PT1H
BEGIN:VTIMEZONE
TZID:America/New_York
BEGIN:DAYLIGHT
TZOFFSETFROM:-0500
TZOFFSETTO:-0400
TZNAME:EDT
DTSTART:20230312T070000
END:DAYLIGHT
BEGIN:STANDARD
TZOFFSETFROM:-0400
TZOFFSETTO:-0500
TZNAME:EST
DTSTART:20231105T060000
END:STANDARD
BEGIN:DAYLIGHT
TZOFFSETFROM:-0500
TZOFFSETTO:-0400
TZNAME:EDT
DTSTART:20240310T070000
END:DAYLIGHT
BEGIN:STANDARD
TZOFFSETFROM:-0400
TZOFFSETTO:-0500
TZNAME:EST
DTSTART:20241103T060000
END:STANDARD
BEGIN:DAYLIGHT
TZOFFSETFROM:-0500
TZOFFSETTO:-0400
TZNAME:EDT
DTSTART:20250309T070000
END:DAYLIGHT
BEGIN:STANDARD
TZOFFSETFROM:-0400
TZOFFSETTO:-0500
TZNAME:EST
DTSTART:20251102T060000
END:STANDARD
END:VTIMEZONE
BEGIN:VEVENT
DTSTART;TZID=America/New_York:20240116T103000
DTEND;TZID=America/New_York:20240116T110000
DTSTAMP:20260420T121927
CREATED:20240105T064747Z
LAST-MODIFIED:20240128T040032Z
UID:10762-1705401000-1705402800@www.adamslib.org
SUMMARY:Wee Read
DESCRIPTION:Designed for our youngest friends (from birth to 2 1/2 years old) and their caregivers. Wee Read combines songs\, rhymes\, and socialization for a fun and engaging early literacy experience. \nThe same Wee Read session is repeated Tuesday through Thursday each week. \nPlease register by calling the Children’s Room at 724-537-4383 or stopping by the Children’s Room desk. Space may be limited! \nIf Latrobe School District is closed or delayed for weather-related reasons\, there will be no Wee Read.
URL:https://www.adamslib.org/event/wee-read-173/
LOCATION:Adams Memorial Library\, 1112 Ligonier Street\, Latrobe\, PA\, 15650\, United States
CATEGORIES:Babies & Toddlers
END:VEVENT
BEGIN:VEVENT
DTSTART;TZID=America/New_York:20240117T103000
DTEND;TZID=America/New_York:20240117T110000
DTSTAMP:20260420T121927
CREATED:20240105T064813Z
LAST-MODIFIED:20240128T040041Z
UID:10764-1705487400-1705489200@www.adamslib.org
SUMMARY:Wee Read
DESCRIPTION:Designed for our youngest friends (from birth to 2 1/2 years old) and their caregivers. Wee Read combines songs\, rhymes\, and socialization for a fun and engaging early literacy experience. \nThe same Wee Read session is repeated Tuesday through Thursday each week. \nPlease register by calling the Children’s Room at 724-537-4383 or stopping by the Children’s Room desk. Space may be limited! \nIf Latrobe School District is closed or delayed for weather-related reasons\, there will be no Wee Read.
URL:https://www.adamslib.org/event/wee-read-174/
LOCATION:Adams Memorial Library\, 1112 Ligonier Street\, Latrobe\, PA\, 15650\, United States
CATEGORIES:Babies & Toddlers
END:VEVENT
BEGIN:VEVENT
DTSTART;TZID=America/New_York:20240118T103000
DTEND;TZID=America/New_York:20240118T110000
DTSTAMP:20260420T121927
CREATED:20240105T064835Z
LAST-MODIFIED:20240128T040035Z
UID:10766-1705573800-1705575600@www.adamslib.org
SUMMARY:Wee Read
DESCRIPTION:Designed for our youngest friends (from birth to 2 1/2 years old) and their caregivers. Wee Read combines songs\, rhymes\, and socialization for a fun and engaging early literacy experience. \nThe same Wee Read session is repeated Tuesday through Thursday each week. \nPlease register by calling the Children’s Room at 724-537-4383 or stopping by the Children’s Room desk. Space may be limited! \nIf Latrobe School District is closed or delayed for weather-related reasons\, there will be no Wee Read.
URL:https://www.adamslib.org/event/wee-read-175/
LOCATION:Adams Memorial Library\, 1112 Ligonier Street\, Latrobe\, PA\, 15650\, United States
CATEGORIES:Babies & Toddlers
END:VEVENT
BEGIN:VEVENT
DTSTART;TZID=America/New_York:20240123T103000
DTEND;TZID=America/New_York:20240123T110000
DTSTAMP:20260420T121927
CREATED:20240105T064900Z
LAST-MODIFIED:20240128T040047Z
UID:10768-1706005800-1706007600@www.adamslib.org
SUMMARY:Wee Read
DESCRIPTION:Designed for our youngest friends (from birth to 2 1/2 years old) and their caregivers. Wee Read combines songs\, rhymes\, and socialization for a fun and engaging early literacy experience. \nThe same Wee Read session is repeated Tuesday through Thursday each week. \nPlease register by calling the Children’s Room at 724-537-4383 or stopping by the Children’s Room desk. Space may be limited! \nIf Latrobe School District is closed or delayed for weather-related reasons\, there will be no Wee Read.
URL:https://www.adamslib.org/event/wee-read-176/
LOCATION:Adams Memorial Library\, 1112 Ligonier Street\, Latrobe\, PA\, 15650\, United States
CATEGORIES:Babies & Toddlers
END:VEVENT
BEGIN:VEVENT
DTSTART;TZID=America/New_York:20240124T103000
DTEND;TZID=America/New_York:20240124T110000
DTSTAMP:20260420T121927
CREATED:20240105T064927Z
LAST-MODIFIED:20240128T040037Z
UID:10770-1706092200-1706094000@www.adamslib.org
SUMMARY:Wee Read
DESCRIPTION:Designed for our youngest friends (from birth to 2 1/2 years old) and their caregivers. Wee Read combines songs\, rhymes\, and socialization for a fun and engaging early literacy experience. \nThe same Wee Read session is repeated Tuesday through Thursday each week. \nPlease register by calling the Children’s Room at 724-537-4383 or stopping by the Children’s Room desk. Space may be limited! \nIf Latrobe School District is closed or delayed for weather-related reasons\, there will be no Wee Read.
URL:https://www.adamslib.org/event/wee-read-177/
LOCATION:Adams Memorial Library\, 1112 Ligonier Street\, Latrobe\, PA\, 15650\, United States
CATEGORIES:Babies & Toddlers
END:VEVENT
BEGIN:VEVENT
DTSTART;TZID=America/New_York:20240125T103000
DTEND;TZID=America/New_York:20240125T110000
DTSTAMP:20260420T121927
CREATED:20240105T064950Z
LAST-MODIFIED:20240128T040051Z
UID:10772-1706178600-1706180400@www.adamslib.org
SUMMARY:Wee Read
DESCRIPTION:Designed for our youngest friends (from birth to 2 1/2 years old) and their caregivers. Wee Read combines songs\, rhymes\, and socialization for a fun and engaging early literacy experience. \nThe same Wee Read session is repeated Tuesday through Thursday each week. \nPlease register by calling the Children’s Room at 724-537-4383 or stopping by the Children’s Room desk. Space may be limited! \nIf Latrobe School District is closed or delayed for weather-related reasons\, there will be no Wee Read.
URL:https://www.adamslib.org/event/wee-read-178/
LOCATION:Adams Memorial Library\, 1112 Ligonier Street\, Latrobe\, PA\, 15650\, United States
CATEGORIES:Babies & Toddlers
END:VEVENT
BEGIN:VEVENT
DTSTART;TZID=America/New_York:20240130T103000
DTEND;TZID=America/New_York:20240130T110000
DTSTAMP:20260420T121927
CREATED:20240105T065014Z
LAST-MODIFIED:20240128T040043Z
UID:10774-1706610600-1706612400@www.adamslib.org
SUMMARY:Wee Read
DESCRIPTION:Designed for our youngest friends (from birth to 2 1/2 years old) and their caregivers. Wee Read combines songs\, rhymes\, and socialization for a fun and engaging early literacy experience. \nThe same Wee Read session is repeated Tuesday through Thursday each week. \nPlease register by calling the Children’s Room at 724-537-4383 or stopping by the Children’s Room desk. Space may be limited! \nIf Latrobe School District is closed or delayed for weather-related reasons\, there will be no Wee Read.
URL:https://www.adamslib.org/event/wee-read-179/
LOCATION:Adams Memorial Library\, 1112 Ligonier Street\, Latrobe\, PA\, 15650\, United States
CATEGORIES:Babies & Toddlers
END:VEVENT
BEGIN:VEVENT
DTSTART;TZID=America/New_York:20240131T103000
DTEND;TZID=America/New_York:20240131T110000
DTSTAMP:20260420T121927
CREATED:20240105T065058Z
LAST-MODIFIED:20240128T040054Z
UID:10776-1706697000-1706698800@www.adamslib.org
SUMMARY:Wee Read
DESCRIPTION:Designed for our youngest friends (from birth to 2 1/2 years old) and their caregivers. Wee Read combines songs\, rhymes\, and socialization for a fun and engaging early literacy experience. \nThe same Wee Read session is repeated Tuesday through Thursday each week. \nPlease register by calling the Children’s Room at 724-537-4383 or stopping by the Children’s Room desk. Space may be limited! \nIf Latrobe School District is closed or delayed for weather-related reasons\, there will be no Wee Read.
URL:https://www.adamslib.org/event/wee-read-180/
LOCATION:Adams Memorial Library\, 1112 Ligonier Street\, Latrobe\, PA\, 15650\, United States
CATEGORIES:Babies & Toddlers
END:VEVENT
END:VCALENDAR